BEGIN:VCALENDAR
VERSION:2.0
PRODID:-//Peterson Space Force Base - ECPv6.15.20//NONSGML v1.0//EN
CALSCALE:GREGORIAN
METHOD:PUBLISH
X-WR-CALNAME:Peterson Space Force Base
X-ORIGINAL-URL:https://21fss.com
X-WR-CALDESC:Events for Peterson Space Force Base
REFRESH-INTERVAL;VALUE=DURATION:PT1H
X-Robots-Tag:noindex
X-PUBLISHED-TTL:PT1H
BEGIN:VTIMEZONE
TZID:America/Denver
BEGIN:DAYLIGHT
TZOFFSETFROM:-0700
TZOFFSETTO:-0600
TZNAME:MDT
DTSTART:20250309T090000
END:DAYLIGHT
BEGIN:STANDARD
TZOFFSETFROM:-0600
TZOFFSETTO:-0700
TZNAME:MST
DTSTART:20251102T080000
END:STANDARD
BEGIN:DAYLIGHT
TZOFFSETFROM:-0700
TZOFFSETTO:-0600
TZNAME:MDT
DTSTART:20260308T090000
END:DAYLIGHT
BEGIN:STANDARD
TZOFFSETFROM:-0600
TZOFFSETTO:-0700
TZNAME:MST
DTSTART:20261101T080000
END:STANDARD
BEGIN:DAYLIGHT
TZOFFSETFROM:-0700
TZOFFSETTO:-0600
TZNAME:MDT
DTSTART:20270314T090000
END:DAYLIGHT
BEGIN:STANDARD
TZOFFSETFROM:-0600
TZOFFSETTO:-0700
TZNAME:MST
DTSTART:20271107T080000
END:STANDARD
END:VTIMEZONE
BEGIN:VEVENT
DTSTART;TZID=America/Denver:20260422T060000
DTEND;TZID=America/Denver:20260422T100000
DTSTAMP:20260422T055012
CREATED:20250205T220055Z
LAST-MODIFIED:20250205T220055Z
UID:10050191-1776837600-1776852000@21fss.com
SUMMARY:Shallow End Fitness
DESCRIPTION:The shallow end of the pool is reserved for adults to work out independently.
URL:https://21fss.com/event/shallow-end-fitness-7/2026-04-22/
LOCATION:Peterson Aquatics Center\, Peterson SFB\, 80914
CATEGORIES:Aqua Hours
ORGANIZER;CN="Peterson Aquatic Center":MAILTO:21fss.aquatics.center@us.af.mil
END:VEVENT
BEGIN:VEVENT
DTSTART;TZID=America/Denver:20260423T110000
DTEND;TZID=America/Denver:20260423T140000
DTSTAMP:20260422T055012
CREATED:20250205T215934Z
LAST-MODIFIED:20250205T215934Z
UID:10042376-1776942000-1776952800@21fss.com
SUMMARY:Shallow End Fitness
DESCRIPTION:The shallow end of the pool is reserved for adults to work out independently.
URL:https://21fss.com/event/shallow-end-fitness-6/2026-04-23/
LOCATION:Peterson Aquatics Center\, Peterson SFB\, 80914
CATEGORIES:Aqua Hours
ORGANIZER;CN="Peterson Aquatic Center":MAILTO:21fss.aquatics.center@us.af.mil
END:VEVENT
BEGIN:VEVENT
DTSTART;TZID=America/Denver:20260424T060000
DTEND;TZID=America/Denver:20260424T140000
DTSTAMP:20260422T055012
CREATED:20250205T220148Z
LAST-MODIFIED:20250205T220148Z
UID:10050709-1777010400-1777039200@21fss.com
SUMMARY:Shallow End Fitness
DESCRIPTION:The shallow end of the pool is reserved for adults to work out independently.
URL:https://21fss.com/event/shallow-end-fitness-8/2026-04-24/
LOCATION:Peterson Aquatics Center\, Peterson SFB\, 80914
CATEGORIES:Aqua Hours
ORGANIZER;CN="Peterson Aquatic Center":MAILTO:21fss.aquatics.center@us.af.mil
END:VEVENT
BEGIN:VEVENT
DTSTART;TZID=America/Denver:20260428T110000
DTEND;TZID=America/Denver:20260428T140000
DTSTAMP:20260422T055012
CREATED:20250205T215934Z
LAST-MODIFIED:20250205T215934Z
UID:10042377-1777374000-1777384800@21fss.com
SUMMARY:Shallow End Fitness
DESCRIPTION:The shallow end of the pool is reserved for adults to work out independently.
URL:https://21fss.com/event/shallow-end-fitness-6/2026-04-28/
LOCATION:Peterson Aquatics Center\, Peterson SFB\, 80914
CATEGORIES:Aqua Hours
ORGANIZER;CN="Peterson Aquatic Center":MAILTO:21fss.aquatics.center@us.af.mil
END:VEVENT
BEGIN:VEVENT
DTSTART;TZID=America/Denver:20260429T060000
DTEND;TZID=America/Denver:20260429T100000
DTSTAMP:20260422T055012
CREATED:20250205T220055Z
LAST-MODIFIED:20250205T220055Z
UID:10050192-1777442400-1777456800@21fss.com
SUMMARY:Shallow End Fitness
DESCRIPTION:The shallow end of the pool is reserved for adults to work out independently.
URL:https://21fss.com/event/shallow-end-fitness-7/2026-04-29/
LOCATION:Peterson Aquatics Center\, Peterson SFB\, 80914
CATEGORIES:Aqua Hours
ORGANIZER;CN="Peterson Aquatic Center":MAILTO:21fss.aquatics.center@us.af.mil
END:VEVENT
BEGIN:VEVENT
DTSTART;TZID=America/Denver:20260430T110000
DTEND;TZID=America/Denver:20260430T140000
DTSTAMP:20260422T055012
CREATED:20250205T215934Z
LAST-MODIFIED:20250205T215934Z
UID:10042378-1777546800-1777557600@21fss.com
SUMMARY:Shallow End Fitness
DESCRIPTION:The shallow end of the pool is reserved for adults to work out independently.
URL:https://21fss.com/event/shallow-end-fitness-6/2026-04-30/
LOCATION:Peterson Aquatics Center\, Peterson SFB\, 80914
CATEGORIES:Aqua Hours
ORGANIZER;CN="Peterson Aquatic Center":MAILTO:21fss.aquatics.center@us.af.mil
END:VEVENT
BEGIN:VEVENT
DTSTART;TZID=America/Denver:20260501T060000
DTEND;TZID=America/Denver:20260501T140000
DTSTAMP:20260422T055012
CREATED:20250205T220148Z
LAST-MODIFIED:20250205T220148Z
UID:10050710-1777615200-1777644000@21fss.com
SUMMARY:Shallow End Fitness
DESCRIPTION:The shallow end of the pool is reserved for adults to work out independently.
URL:https://21fss.com/event/shallow-end-fitness-8/2026-05-01/
LOCATION:Peterson Aquatics Center\, Peterson SFB\, 80914
CATEGORIES:Aqua Hours
ORGANIZER;CN="Peterson Aquatic Center":MAILTO:21fss.aquatics.center@us.af.mil
END:VEVENT
BEGIN:VEVENT
DTSTART;TZID=America/Denver:20260505T110000
DTEND;TZID=America/Denver:20260505T140000
DTSTAMP:20260422T055012
CREATED:20250205T215934Z
LAST-MODIFIED:20250205T215934Z
UID:10042379-1777978800-1777989600@21fss.com
SUMMARY:Shallow End Fitness
DESCRIPTION:The shallow end of the pool is reserved for adults to work out independently.
URL:https://21fss.com/event/shallow-end-fitness-6/2026-05-05/
LOCATION:Peterson Aquatics Center\, Peterson SFB\, 80914
CATEGORIES:Aqua Hours
ORGANIZER;CN="Peterson Aquatic Center":MAILTO:21fss.aquatics.center@us.af.mil
END:VEVENT
BEGIN:VEVENT
DTSTART;TZID=America/Denver:20260506T060000
DTEND;TZID=America/Denver:20260506T100000
DTSTAMP:20260422T055012
CREATED:20250205T220055Z
LAST-MODIFIED:20250205T220055Z
UID:10050193-1778047200-1778061600@21fss.com
SUMMARY:Shallow End Fitness
DESCRIPTION:The shallow end of the pool is reserved for adults to work out independently.
URL:https://21fss.com/event/shallow-end-fitness-7/2026-05-06/
LOCATION:Peterson Aquatics Center\, Peterson SFB\, 80914
CATEGORIES:Aqua Hours
ORGANIZER;CN="Peterson Aquatic Center":MAILTO:21fss.aquatics.center@us.af.mil
END:VEVENT
BEGIN:VEVENT
DTSTART;TZID=America/Denver:20260507T110000
DTEND;TZID=America/Denver:20260507T140000
DTSTAMP:20260422T055012
CREATED:20250205T215934Z
LAST-MODIFIED:20250205T215934Z
UID:10042380-1778151600-1778162400@21fss.com
SUMMARY:Shallow End Fitness
DESCRIPTION:The shallow end of the pool is reserved for adults to work out independently.
URL:https://21fss.com/event/shallow-end-fitness-6/2026-05-07/
LOCATION:Peterson Aquatics Center\, Peterson SFB\, 80914
CATEGORIES:Aqua Hours
ORGANIZER;CN="Peterson Aquatic Center":MAILTO:21fss.aquatics.center@us.af.mil
END:VEVENT
BEGIN:VEVENT
DTSTART;TZID=America/Denver:20260508T060000
DTEND;TZID=America/Denver:20260508T140000
DTSTAMP:20260422T055012
CREATED:20250205T220148Z
LAST-MODIFIED:20250205T220148Z
UID:10050711-1778220000-1778248800@21fss.com
SUMMARY:Shallow End Fitness
DESCRIPTION:The shallow end of the pool is reserved for adults to work out independently.
URL:https://21fss.com/event/shallow-end-fitness-8/2026-05-08/
LOCATION:Peterson Aquatics Center\, Peterson SFB\, 80914
CATEGORIES:Aqua Hours
ORGANIZER;CN="Peterson Aquatic Center":MAILTO:21fss.aquatics.center@us.af.mil
END:VEVENT
BEGIN:VEVENT
DTSTART;TZID=America/Denver:20260512T110000
DTEND;TZID=America/Denver:20260512T140000
DTSTAMP:20260422T055012
CREATED:20250205T215934Z
LAST-MODIFIED:20250205T215934Z
UID:10042381-1778583600-1778594400@21fss.com
SUMMARY:Shallow End Fitness
DESCRIPTION:The shallow end of the pool is reserved for adults to work out independently.
URL:https://21fss.com/event/shallow-end-fitness-6/2026-05-12/
LOCATION:Peterson Aquatics Center\, Peterson SFB\, 80914
CATEGORIES:Aqua Hours
ORGANIZER;CN="Peterson Aquatic Center":MAILTO:21fss.aquatics.center@us.af.mil
END:VEVENT
BEGIN:VEVENT
DTSTART;TZID=America/Denver:20260513T060000
DTEND;TZID=America/Denver:20260513T100000
DTSTAMP:20260422T055012
CREATED:20250205T220055Z
LAST-MODIFIED:20250205T220055Z
UID:10059894-1778652000-1778666400@21fss.com
SUMMARY:Shallow End Fitness
DESCRIPTION:The shallow end of the pool is reserved for adults to work out independently.
URL:https://21fss.com/event/shallow-end-fitness-7/2026-05-13/
LOCATION:Peterson Aquatics Center\, Peterson SFB\, 80914
CATEGORIES:Aqua Hours
ORGANIZER;CN="Peterson Aquatic Center":MAILTO:21fss.aquatics.center@us.af.mil
END:VEVENT
BEGIN:VEVENT
DTSTART;TZID=America/Denver:20260514T110000
DTEND;TZID=America/Denver:20260514T140000
DTSTAMP:20260422T055012
CREATED:20250205T215934Z
LAST-MODIFIED:20250205T215934Z
UID:10059877-1778756400-1778767200@21fss.com
SUMMARY:Shallow End Fitness
DESCRIPTION:The shallow end of the pool is reserved for adults to work out independently.
URL:https://21fss.com/event/shallow-end-fitness-6/2026-05-14/
LOCATION:Peterson Aquatics Center\, Peterson SFB\, 80914
CATEGORIES:Aqua Hours
ORGANIZER;CN="Peterson Aquatic Center":MAILTO:21fss.aquatics.center@us.af.mil
END:VEVENT
BEGIN:VEVENT
DTSTART;TZID=America/Denver:20260515T060000
DTEND;TZID=America/Denver:20260515T140000
DTSTAMP:20260422T055012
CREATED:20250205T220148Z
LAST-MODIFIED:20250205T220148Z
UID:10050712-1778824800-1778853600@21fss.com
SUMMARY:Shallow End Fitness
DESCRIPTION:The shallow end of the pool is reserved for adults to work out independently.
URL:https://21fss.com/event/shallow-end-fitness-8/2026-05-15/
LOCATION:Peterson Aquatics Center\, Peterson SFB\, 80914
CATEGORIES:Aqua Hours
ORGANIZER;CN="Peterson Aquatic Center":MAILTO:21fss.aquatics.center@us.af.mil
END:VEVENT
BEGIN:VEVENT
DTSTART;TZID=America/Denver:20260519T110000
DTEND;TZID=America/Denver:20260519T140000
DTSTAMP:20260422T055012
CREATED:20250205T215934Z
LAST-MODIFIED:20250205T215934Z
UID:10059878-1779188400-1779199200@21fss.com
SUMMARY:Shallow End Fitness
DESCRIPTION:The shallow end of the pool is reserved for adults to work out independently.
URL:https://21fss.com/event/shallow-end-fitness-6/2026-05-19/
LOCATION:Peterson Aquatics Center\, Peterson SFB\, 80914
CATEGORIES:Aqua Hours
ORGANIZER;CN="Peterson Aquatic Center":MAILTO:21fss.aquatics.center@us.af.mil
END:VEVENT
BEGIN:VEVENT
DTSTART;TZID=America/Denver:20260520T060000
DTEND;TZID=America/Denver:20260520T100000
DTSTAMP:20260422T055012
CREATED:20250205T220055Z
LAST-MODIFIED:20250205T220055Z
UID:10059895-1779256800-1779271200@21fss.com
SUMMARY:Shallow End Fitness
DESCRIPTION:The shallow end of the pool is reserved for adults to work out independently.
URL:https://21fss.com/event/shallow-end-fitness-7/2026-05-20/
LOCATION:Peterson Aquatics Center\, Peterson SFB\, 80914
CATEGORIES:Aqua Hours
ORGANIZER;CN="Peterson Aquatic Center":MAILTO:21fss.aquatics.center@us.af.mil
END:VEVENT
BEGIN:VEVENT
DTSTART;TZID=America/Denver:20260521T110000
DTEND;TZID=America/Denver:20260521T140000
DTSTAMP:20260422T055012
CREATED:20250205T215934Z
LAST-MODIFIED:20250205T215934Z
UID:10059879-1779361200-1779372000@21fss.com
SUMMARY:Shallow End Fitness
DESCRIPTION:The shallow end of the pool is reserved for adults to work out independently.
URL:https://21fss.com/event/shallow-end-fitness-6/2026-05-21/
LOCATION:Peterson Aquatics Center\, Peterson SFB\, 80914
CATEGORIES:Aqua Hours
ORGANIZER;CN="Peterson Aquatic Center":MAILTO:21fss.aquatics.center@us.af.mil
END:VEVENT
BEGIN:VEVENT
DTSTART;TZID=America/Denver:20260522T060000
DTEND;TZID=America/Denver:20260522T140000
DTSTAMP:20260422T055012
CREATED:20250205T220148Z
LAST-MODIFIED:20250205T220148Z
UID:10050713-1779429600-1779458400@21fss.com
SUMMARY:Shallow End Fitness
DESCRIPTION:The shallow end of the pool is reserved for adults to work out independently.
URL:https://21fss.com/event/shallow-end-fitness-8/2026-05-22/
LOCATION:Peterson Aquatics Center\, Peterson SFB\, 80914
CATEGORIES:Aqua Hours
ORGANIZER;CN="Peterson Aquatic Center":MAILTO:21fss.aquatics.center@us.af.mil
END:VEVENT
BEGIN:VEVENT
DTSTART;TZID=America/Denver:20260526T110000
DTEND;TZID=America/Denver:20260526T140000
DTSTAMP:20260422T055012
CREATED:20250205T215934Z
LAST-MODIFIED:20250205T215934Z
UID:10059931-1779793200-1779804000@21fss.com
SUMMARY:Shallow End Fitness
DESCRIPTION:The shallow end of the pool is reserved for adults to work out independently.
URL:https://21fss.com/event/shallow-end-fitness-6/2026-05-26/
LOCATION:Peterson Aquatics Center\, Peterson SFB\, 80914
CATEGORIES:Aqua Hours
ORGANIZER;CN="Peterson Aquatic Center":MAILTO:21fss.aquatics.center@us.af.mil
END:VEVENT
BEGIN:VEVENT
DTSTART;TZID=America/Denver:20260527T060000
DTEND;TZID=America/Denver:20260527T100000
DTSTAMP:20260422T055012
CREATED:20250205T220055Z
LAST-MODIFIED:20250205T220055Z
UID:10059938-1779861600-1779876000@21fss.com
SUMMARY:Shallow End Fitness
DESCRIPTION:The shallow end of the pool is reserved for adults to work out independently.
URL:https://21fss.com/event/shallow-end-fitness-7/2026-05-27/
LOCATION:Peterson Aquatics Center\, Peterson SFB\, 80914
CATEGORIES:Aqua Hours
ORGANIZER;CN="Peterson Aquatic Center":MAILTO:21fss.aquatics.center@us.af.mil
END:VEVENT
BEGIN:VEVENT
DTSTART;TZID=America/Denver:20260528T110000
DTEND;TZID=America/Denver:20260528T140000
DTSTAMP:20260422T055012
CREATED:20250205T215934Z
LAST-MODIFIED:20250205T215934Z
UID:10060063-1779966000-1779976800@21fss.com
SUMMARY:Shallow End Fitness
DESCRIPTION:The shallow end of the pool is reserved for adults to work out independently.
URL:https://21fss.com/event/shallow-end-fitness-6/2026-05-28/
LOCATION:Peterson Aquatics Center\, Peterson SFB\, 80914
CATEGORIES:Aqua Hours
ORGANIZER;CN="Peterson Aquatic Center":MAILTO:21fss.aquatics.center@us.af.mil
END:VEVENT
BEGIN:VEVENT
DTSTART;TZID=America/Denver:20260529T060000
DTEND;TZID=America/Denver:20260529T140000
DTSTAMP:20260422T055012
CREATED:20250205T220148Z
LAST-MODIFIED:20250205T220148Z
UID:10060227-1780034400-1780063200@21fss.com
SUMMARY:Shallow End Fitness
DESCRIPTION:The shallow end of the pool is reserved for adults to work out independently.
URL:https://21fss.com/event/shallow-end-fitness-8/2026-05-29/
LOCATION:Peterson Aquatics Center\, Peterson SFB\, 80914
CATEGORIES:Aqua Hours
ORGANIZER;CN="Peterson Aquatic Center":MAILTO:21fss.aquatics.center@us.af.mil
END:VEVENT
BEGIN:VEVENT
DTSTART;TZID=America/Denver:20260602T110000
DTEND;TZID=America/Denver:20260602T140000
DTSTAMP:20260422T055012
CREATED:20250205T215934Z
LAST-MODIFIED:20250205T215934Z
UID:10060064-1780398000-1780408800@21fss.com
SUMMARY:Shallow End Fitness
DESCRIPTION:The shallow end of the pool is reserved for adults to work out independently.
URL:https://21fss.com/event/shallow-end-fitness-6/2026-06-02/
LOCATION:Peterson Aquatics Center\, Peterson SFB\, 80914
CATEGORIES:Aqua Hours
ORGANIZER;CN="Peterson Aquatic Center":MAILTO:21fss.aquatics.center@us.af.mil
END:VEVENT
BEGIN:VEVENT
DTSTART;TZID=America/Denver:20260603T060000
DTEND;TZID=America/Denver:20260603T100000
DTSTAMP:20260422T055012
CREATED:20250205T220055Z
LAST-MODIFIED:20250205T220055Z
UID:10059939-1780466400-1780480800@21fss.com
SUMMARY:Shallow End Fitness
DESCRIPTION:The shallow end of the pool is reserved for adults to work out independently.
URL:https://21fss.com/event/shallow-end-fitness-7/2026-06-03/
LOCATION:Peterson Aquatics Center\, Peterson SFB\, 80914
CATEGORIES:Aqua Hours
ORGANIZER;CN="Peterson Aquatic Center":MAILTO:21fss.aquatics.center@us.af.mil
END:VEVENT
BEGIN:VEVENT
DTSTART;TZID=America/Denver:20260604T110000
DTEND;TZID=America/Denver:20260604T140000
DTSTAMP:20260422T055012
CREATED:20250205T215934Z
LAST-MODIFIED:20250205T215934Z
UID:10060065-1780570800-1780581600@21fss.com
SUMMARY:Shallow End Fitness
DESCRIPTION:The shallow end of the pool is reserved for adults to work out independently.
URL:https://21fss.com/event/shallow-end-fitness-6/2026-06-04/
LOCATION:Peterson Aquatics Center\, Peterson SFB\, 80914
CATEGORIES:Aqua Hours
ORGANIZER;CN="Peterson Aquatic Center":MAILTO:21fss.aquatics.center@us.af.mil
END:VEVENT
BEGIN:VEVENT
DTSTART;TZID=America/Denver:20260605T060000
DTEND;TZID=America/Denver:20260605T140000
DTSTAMP:20260422T055012
CREATED:20250205T220148Z
LAST-MODIFIED:20250205T220148Z
UID:10060228-1780639200-1780668000@21fss.com
SUMMARY:Shallow End Fitness
DESCRIPTION:The shallow end of the pool is reserved for adults to work out independently.
URL:https://21fss.com/event/shallow-end-fitness-8/2026-06-05/
LOCATION:Peterson Aquatics Center\, Peterson SFB\, 80914
CATEGORIES:Aqua Hours
ORGANIZER;CN="Peterson Aquatic Center":MAILTO:21fss.aquatics.center@us.af.mil
END:VEVENT
BEGIN:VEVENT
DTSTART;TZID=America/Denver:20260609T110000
DTEND;TZID=America/Denver:20260609T140000
DTSTAMP:20260422T055012
CREATED:20250205T215934Z
LAST-MODIFIED:20250205T215934Z
UID:10060066-1781002800-1781013600@21fss.com
SUMMARY:Shallow End Fitness
DESCRIPTION:The shallow end of the pool is reserved for adults to work out independently.
URL:https://21fss.com/event/shallow-end-fitness-6/2026-06-09/
LOCATION:Peterson Aquatics Center\, Peterson SFB\, 80914
CATEGORIES:Aqua Hours
ORGANIZER;CN="Peterson Aquatic Center":MAILTO:21fss.aquatics.center@us.af.mil
END:VEVENT
BEGIN:VEVENT
DTSTART;TZID=America/Denver:20260610T060000
DTEND;TZID=America/Denver:20260610T100000
DTSTAMP:20260422T055012
CREATED:20250205T220055Z
LAST-MODIFIED:20250205T220055Z
UID:10059940-1781071200-1781085600@21fss.com
SUMMARY:Shallow End Fitness
DESCRIPTION:The shallow end of the pool is reserved for adults to work out independently.
URL:https://21fss.com/event/shallow-end-fitness-7/2026-06-10/
LOCATION:Peterson Aquatics Center\, Peterson SFB\, 80914
CATEGORIES:Aqua Hours
ORGANIZER;CN="Peterson Aquatic Center":MAILTO:21fss.aquatics.center@us.af.mil
END:VEVENT
BEGIN:VEVENT
DTSTART;TZID=America/Denver:20260611T110000
DTEND;TZID=America/Denver:20260611T140000
DTSTAMP:20260422T055012
CREATED:20250205T215934Z
LAST-MODIFIED:20250205T215934Z
UID:10060067-1781175600-1781186400@21fss.com
SUMMARY:Shallow End Fitness
DESCRIPTION:The shallow end of the pool is reserved for adults to work out independently.
URL:https://21fss.com/event/shallow-end-fitness-6/2026-06-11/
LOCATION:Peterson Aquatics Center\, Peterson SFB\, 80914
CATEGORIES:Aqua Hours
ORGANIZER;CN="Peterson Aquatic Center":MAILTO:21fss.aquatics.center@us.af.mil
END:VEVENT
END:VCALENDAR