BEGIN:VCALENDAR
VERSION:2.0
PRODID:-//Peterson Space Force Base - ECPv6.15.20//NONSGML v1.0//EN
CALSCALE:GREGORIAN
METHOD:PUBLISH
X-WR-CALNAME:Peterson Space Force Base
X-ORIGINAL-URL:https://21fss.com
X-WR-CALDESC:Events for Peterson Space Force Base
REFRESH-INTERVAL;VALUE=DURATION:PT1H
X-Robots-Tag:noindex
X-PUBLISHED-TTL:PT1H
BEGIN:VTIMEZONE
TZID:America/Denver
BEGIN:DAYLIGHT
TZOFFSETFROM:-0700
TZOFFSETTO:-0600
TZNAME:MDT
DTSTART:20250309T090000
END:DAYLIGHT
BEGIN:STANDARD
TZOFFSETFROM:-0600
TZOFFSETTO:-0700
TZNAME:MST
DTSTART:20251102T080000
END:STANDARD
BEGIN:DAYLIGHT
TZOFFSETFROM:-0700
TZOFFSETTO:-0600
TZNAME:MDT
DTSTART:20260308T090000
END:DAYLIGHT
BEGIN:STANDARD
TZOFFSETFROM:-0600
TZOFFSETTO:-0700
TZNAME:MST
DTSTART:20261101T080000
END:STANDARD
BEGIN:DAYLIGHT
TZOFFSETFROM:-0700
TZOFFSETTO:-0600
TZNAME:MDT
DTSTART:20270314T090000
END:DAYLIGHT
BEGIN:STANDARD
TZOFFSETFROM:-0600
TZOFFSETTO:-0700
TZNAME:MST
DTSTART:20271107T080000
END:STANDARD
END:VTIMEZONE
BEGIN:VEVENT
DTSTART;TZID=America/Denver:20260422T060000
DTEND;TZID=America/Denver:20260422T130000
DTSTAMP:20260422T061300
CREATED:20250205T215223Z
LAST-MODIFIED:20250205T215544Z
UID:10048061-1776837600-1776862800@21fss.com
SUMMARY:Lap Swim
DESCRIPTION:
URL:https://21fss.com/event/lap-swim-14/2026-04-22/
LOCATION:Peterson Aquatics Center\, Peterson SFB\, 80914
CATEGORIES:Aqua Hours
ORGANIZER;CN="Peterson Aquatic Center":MAILTO:21fss.aquatics.center@us.af.mil
END:VEVENT
BEGIN:VEVENT
DTSTART;TZID=America/Denver:20260423T110000
DTEND;TZID=America/Denver:20260423T180000
DTSTAMP:20260422T061300
CREATED:20250205T215357Z
LAST-MODIFIED:20250205T215537Z
UID:10048320-1776942000-1776967200@21fss.com
SUMMARY:Lap Swim
DESCRIPTION:
URL:https://21fss.com/event/lap-swim-15/2026-04-23/
LOCATION:Peterson Aquatics Center\, Peterson SFB\, 80914
CATEGORIES:Aqua Hours
ORGANIZER;CN="Peterson Aquatic Center":MAILTO:21fss.aquatics.center@us.af.mil
END:VEVENT
BEGIN:VEVENT
DTSTART;TZID=America/Denver:20260424T060000
DTEND;TZID=America/Denver:20260424T150000
DTSTAMP:20260422T061300
CREATED:20250205T215448Z
LAST-MODIFIED:20250205T215531Z
UID:10059910-1777010400-1777042800@21fss.com
SUMMARY:Lap Swim
DESCRIPTION:
URL:https://21fss.com/event/lap-swim-16/2026-04-24/
LOCATION:Peterson Aquatics Center\, Peterson SFB\, 80914
CATEGORIES:Aqua Hours
ORGANIZER;CN="Peterson Aquatic Center":MAILTO:21fss.aquatics.center@us.af.mil
END:VEVENT
BEGIN:VEVENT
DTSTART;TZID=America/Denver:20260428T110000
DTEND;TZID=America/Denver:20260428T150000
DTSTAMP:20260422T061300
CREATED:20250205T215125Z
LAST-MODIFIED:20250205T215551Z
UID:10047802-1777374000-1777388400@21fss.com
SUMMARY:Lap Swim
DESCRIPTION:
URL:https://21fss.com/event/lap-swim-13/2026-04-28/
LOCATION:Peterson Aquatics Center\, Peterson SFB\, 80914
CATEGORIES:Aqua Hours
ORGANIZER;CN="Peterson Aquatic Center":MAILTO:21fss.aquatics.center@us.af.mil
END:VEVENT
BEGIN:VEVENT
DTSTART;TZID=America/Denver:20260429T060000
DTEND;TZID=America/Denver:20260429T130000
DTSTAMP:20260422T061300
CREATED:20250205T215223Z
LAST-MODIFIED:20250205T215544Z
UID:10048062-1777442400-1777467600@21fss.com
SUMMARY:Lap Swim
DESCRIPTION:
URL:https://21fss.com/event/lap-swim-14/2026-04-29/
LOCATION:Peterson Aquatics Center\, Peterson SFB\, 80914
CATEGORIES:Aqua Hours
ORGANIZER;CN="Peterson Aquatic Center":MAILTO:21fss.aquatics.center@us.af.mil
END:VEVENT
BEGIN:VEVENT
DTSTART;TZID=America/Denver:20260430T110000
DTEND;TZID=America/Denver:20260430T180000
DTSTAMP:20260422T061300
CREATED:20250205T215357Z
LAST-MODIFIED:20250205T215537Z
UID:10048321-1777546800-1777572000@21fss.com
SUMMARY:Lap Swim
DESCRIPTION:
URL:https://21fss.com/event/lap-swim-15/2026-04-30/
LOCATION:Peterson Aquatics Center\, Peterson SFB\, 80914
CATEGORIES:Aqua Hours
ORGANIZER;CN="Peterson Aquatic Center":MAILTO:21fss.aquatics.center@us.af.mil
END:VEVENT
BEGIN:VEVENT
DTSTART;TZID=America/Denver:20260501T060000
DTEND;TZID=America/Denver:20260501T150000
DTSTAMP:20260422T061300
CREATED:20250205T215448Z
LAST-MODIFIED:20250205T215531Z
UID:10059911-1777615200-1777647600@21fss.com
SUMMARY:Lap Swim
DESCRIPTION:
URL:https://21fss.com/event/lap-swim-16/2026-05-01/
LOCATION:Peterson Aquatics Center\, Peterson SFB\, 80914
CATEGORIES:Aqua Hours
ORGANIZER;CN="Peterson Aquatic Center":MAILTO:21fss.aquatics.center@us.af.mil
END:VEVENT
BEGIN:VEVENT
DTSTART;TZID=America/Denver:20260505T110000
DTEND;TZID=America/Denver:20260505T150000
DTSTAMP:20260422T061300
CREATED:20250205T215125Z
LAST-MODIFIED:20250205T215551Z
UID:10047803-1777978800-1777993200@21fss.com
SUMMARY:Lap Swim
DESCRIPTION:
URL:https://21fss.com/event/lap-swim-13/2026-05-05/
LOCATION:Peterson Aquatics Center\, Peterson SFB\, 80914
CATEGORIES:Aqua Hours
ORGANIZER;CN="Peterson Aquatic Center":MAILTO:21fss.aquatics.center@us.af.mil
END:VEVENT
BEGIN:VEVENT
DTSTART;TZID=America/Denver:20260506T060000
DTEND;TZID=America/Denver:20260506T130000
DTSTAMP:20260422T061300
CREATED:20250205T215223Z
LAST-MODIFIED:20250205T215544Z
UID:10048063-1778047200-1778072400@21fss.com
SUMMARY:Lap Swim
DESCRIPTION:
URL:https://21fss.com/event/lap-swim-14/2026-05-06/
LOCATION:Peterson Aquatics Center\, Peterson SFB\, 80914
CATEGORIES:Aqua Hours
ORGANIZER;CN="Peterson Aquatic Center":MAILTO:21fss.aquatics.center@us.af.mil
END:VEVENT
BEGIN:VEVENT
DTSTART;TZID=America/Denver:20260507T110000
DTEND;TZID=America/Denver:20260507T180000
DTSTAMP:20260422T061300
CREATED:20250205T215357Z
LAST-MODIFIED:20250205T215537Z
UID:10048322-1778151600-1778176800@21fss.com
SUMMARY:Lap Swim
DESCRIPTION:
URL:https://21fss.com/event/lap-swim-15/2026-05-07/
LOCATION:Peterson Aquatics Center\, Peterson SFB\, 80914
CATEGORIES:Aqua Hours
ORGANIZER;CN="Peterson Aquatic Center":MAILTO:21fss.aquatics.center@us.af.mil
END:VEVENT
BEGIN:VEVENT
DTSTART;TZID=America/Denver:20260508T060000
DTEND;TZID=America/Denver:20260508T150000
DTSTAMP:20260422T061300
CREATED:20250205T215448Z
LAST-MODIFIED:20250205T215531Z
UID:10059912-1778220000-1778252400@21fss.com
SUMMARY:Lap Swim
DESCRIPTION:
URL:https://21fss.com/event/lap-swim-16/2026-05-08/
LOCATION:Peterson Aquatics Center\, Peterson SFB\, 80914
CATEGORIES:Aqua Hours
ORGANIZER;CN="Peterson Aquatic Center":MAILTO:21fss.aquatics.center@us.af.mil
END:VEVENT
BEGIN:VEVENT
DTSTART;TZID=America/Denver:20260512T110000
DTEND;TZID=America/Denver:20260512T150000
DTSTAMP:20260422T061300
CREATED:20250205T215125Z
LAST-MODIFIED:20250205T215551Z
UID:10047804-1778583600-1778598000@21fss.com
SUMMARY:Lap Swim
DESCRIPTION:
URL:https://21fss.com/event/lap-swim-13/2026-05-12/
LOCATION:Peterson Aquatics Center\, Peterson SFB\, 80914
CATEGORIES:Aqua Hours
ORGANIZER;CN="Peterson Aquatic Center":MAILTO:21fss.aquatics.center@us.af.mil
END:VEVENT
BEGIN:VEVENT
DTSTART;TZID=America/Denver:20260513T060000
DTEND;TZID=America/Denver:20260513T130000
DTSTAMP:20260422T061300
CREATED:20250205T215223Z
LAST-MODIFIED:20250205T215544Z
UID:10059896-1778652000-1778677200@21fss.com
SUMMARY:Lap Swim
DESCRIPTION:
URL:https://21fss.com/event/lap-swim-14/2026-05-13/
LOCATION:Peterson Aquatics Center\, Peterson SFB\, 80914
CATEGORIES:Aqua Hours
ORGANIZER;CN="Peterson Aquatic Center":MAILTO:21fss.aquatics.center@us.af.mil
END:VEVENT
BEGIN:VEVENT
DTSTART;TZID=America/Denver:20260514T110000
DTEND;TZID=America/Denver:20260514T180000
DTSTAMP:20260422T061300
CREATED:20250205T215357Z
LAST-MODIFIED:20250205T215537Z
UID:10059904-1778756400-1778781600@21fss.com
SUMMARY:Lap Swim
DESCRIPTION:
URL:https://21fss.com/event/lap-swim-15/2026-05-14/
LOCATION:Peterson Aquatics Center\, Peterson SFB\, 80914
CATEGORIES:Aqua Hours
ORGANIZER;CN="Peterson Aquatic Center":MAILTO:21fss.aquatics.center@us.af.mil
END:VEVENT
BEGIN:VEVENT
DTSTART;TZID=America/Denver:20260515T060000
DTEND;TZID=America/Denver:20260515T150000
DTSTAMP:20260422T061300
CREATED:20250205T215448Z
LAST-MODIFIED:20250205T215531Z
UID:10059913-1778824800-1778857200@21fss.com
SUMMARY:Lap Swim
DESCRIPTION:
URL:https://21fss.com/event/lap-swim-16/2026-05-15/
LOCATION:Peterson Aquatics Center\, Peterson SFB\, 80914
CATEGORIES:Aqua Hours
ORGANIZER;CN="Peterson Aquatic Center":MAILTO:21fss.aquatics.center@us.af.mil
END:VEVENT
BEGIN:VEVENT
DTSTART;TZID=America/Denver:20260519T110000
DTEND;TZID=America/Denver:20260519T150000
DTSTAMP:20260422T061300
CREATED:20250205T215125Z
LAST-MODIFIED:20250205T215551Z
UID:10047805-1779188400-1779202800@21fss.com
SUMMARY:Lap Swim
DESCRIPTION:
URL:https://21fss.com/event/lap-swim-13/2026-05-19/
LOCATION:Peterson Aquatics Center\, Peterson SFB\, 80914
CATEGORIES:Aqua Hours
ORGANIZER;CN="Peterson Aquatic Center":MAILTO:21fss.aquatics.center@us.af.mil
END:VEVENT
BEGIN:VEVENT
DTSTART;TZID=America/Denver:20260520T060000
DTEND;TZID=America/Denver:20260520T130000
DTSTAMP:20260422T061300
CREATED:20250205T215223Z
LAST-MODIFIED:20250205T215544Z
UID:10059897-1779256800-1779282000@21fss.com
SUMMARY:Lap Swim
DESCRIPTION:
URL:https://21fss.com/event/lap-swim-14/2026-05-20/
LOCATION:Peterson Aquatics Center\, Peterson SFB\, 80914
CATEGORIES:Aqua Hours
ORGANIZER;CN="Peterson Aquatic Center":MAILTO:21fss.aquatics.center@us.af.mil
END:VEVENT
BEGIN:VEVENT
DTSTART;TZID=America/Denver:20260521T110000
DTEND;TZID=America/Denver:20260521T180000
DTSTAMP:20260422T061300
CREATED:20250205T215357Z
LAST-MODIFIED:20250205T215537Z
UID:10059905-1779361200-1779386400@21fss.com
SUMMARY:Lap Swim
DESCRIPTION:
URL:https://21fss.com/event/lap-swim-15/2026-05-21/
LOCATION:Peterson Aquatics Center\, Peterson SFB\, 80914
CATEGORIES:Aqua Hours
ORGANIZER;CN="Peterson Aquatic Center":MAILTO:21fss.aquatics.center@us.af.mil
END:VEVENT
BEGIN:VEVENT
DTSTART;TZID=America/Denver:20260522T060000
DTEND;TZID=America/Denver:20260522T150000
DTSTAMP:20260422T061300
CREATED:20250205T215448Z
LAST-MODIFIED:20250205T215531Z
UID:10059914-1779429600-1779462000@21fss.com
SUMMARY:Lap Swim
DESCRIPTION:
URL:https://21fss.com/event/lap-swim-16/2026-05-22/
LOCATION:Peterson Aquatics Center\, Peterson SFB\, 80914
CATEGORIES:Aqua Hours
ORGANIZER;CN="Peterson Aquatic Center":MAILTO:21fss.aquatics.center@us.af.mil
END:VEVENT
BEGIN:VEVENT
DTSTART;TZID=America/Denver:20260526T110000
DTEND;TZID=America/Denver:20260526T150000
DTSTAMP:20260422T061300
CREATED:20250205T215125Z
LAST-MODIFIED:20250205T215551Z
UID:10059932-1779793200-1779807600@21fss.com
SUMMARY:Lap Swim
DESCRIPTION:
URL:https://21fss.com/event/lap-swim-13/2026-05-26/
LOCATION:Peterson Aquatics Center\, Peterson SFB\, 80914
CATEGORIES:Aqua Hours
ORGANIZER;CN="Peterson Aquatic Center":MAILTO:21fss.aquatics.center@us.af.mil
END:VEVENT
BEGIN:VEVENT
DTSTART;TZID=America/Denver:20260527T060000
DTEND;TZID=America/Denver:20260527T130000
DTSTAMP:20260422T061300
CREATED:20250205T215223Z
LAST-MODIFIED:20250205T215544Z
UID:10059952-1779861600-1779886800@21fss.com
SUMMARY:Lap Swim
DESCRIPTION:
URL:https://21fss.com/event/lap-swim-14/2026-05-27/
LOCATION:Peterson Aquatics Center\, Peterson SFB\, 80914
CATEGORIES:Aqua Hours
ORGANIZER;CN="Peterson Aquatic Center":MAILTO:21fss.aquatics.center@us.af.mil
END:VEVENT
BEGIN:VEVENT
DTSTART;TZID=America/Denver:20260528T110000
DTEND;TZID=America/Denver:20260528T180000
DTSTAMP:20260422T061300
CREATED:20250205T215357Z
LAST-MODIFIED:20250205T215537Z
UID:10060090-1779966000-1779991200@21fss.com
SUMMARY:Lap Swim
DESCRIPTION:
URL:https://21fss.com/event/lap-swim-15/2026-05-28/
LOCATION:Peterson Aquatics Center\, Peterson SFB\, 80914
CATEGORIES:Aqua Hours
ORGANIZER;CN="Peterson Aquatic Center":MAILTO:21fss.aquatics.center@us.af.mil
END:VEVENT
BEGIN:VEVENT
DTSTART;TZID=America/Denver:20260529T060000
DTEND;TZID=America/Denver:20260529T150000
DTSTAMP:20260422T061300
CREATED:20250205T215448Z
LAST-MODIFIED:20250205T215531Z
UID:10060241-1780034400-1780066800@21fss.com
SUMMARY:Lap Swim
DESCRIPTION:
URL:https://21fss.com/event/lap-swim-16/2026-05-29/
LOCATION:Peterson Aquatics Center\, Peterson SFB\, 80914
CATEGORIES:Aqua Hours
ORGANIZER;CN="Peterson Aquatic Center":MAILTO:21fss.aquatics.center@us.af.mil
END:VEVENT
BEGIN:VEVENT
DTSTART;TZID=America/Denver:20260602T110000
DTEND;TZID=America/Denver:20260602T150000
DTSTAMP:20260422T061300
CREATED:20250205T215125Z
LAST-MODIFIED:20250205T215551Z
UID:10060400-1780398000-1780412400@21fss.com
SUMMARY:Lap Swim
DESCRIPTION:
URL:https://21fss.com/event/lap-swim-13/2026-06-02/
LOCATION:Peterson Aquatics Center\, Peterson SFB\, 80914
CATEGORIES:Aqua Hours
ORGANIZER;CN="Peterson Aquatic Center":MAILTO:21fss.aquatics.center@us.af.mil
END:VEVENT
BEGIN:VEVENT
DTSTART;TZID=America/Denver:20260603T060000
DTEND;TZID=America/Denver:20260603T130000
DTSTAMP:20260422T061300
CREATED:20250205T215223Z
LAST-MODIFIED:20250205T215544Z
UID:10059953-1780466400-1780491600@21fss.com
SUMMARY:Lap Swim
DESCRIPTION:
URL:https://21fss.com/event/lap-swim-14/2026-06-03/
LOCATION:Peterson Aquatics Center\, Peterson SFB\, 80914
CATEGORIES:Aqua Hours
ORGANIZER;CN="Peterson Aquatic Center":MAILTO:21fss.aquatics.center@us.af.mil
END:VEVENT
BEGIN:VEVENT
DTSTART;TZID=America/Denver:20260604T110000
DTEND;TZID=America/Denver:20260604T180000
DTSTAMP:20260422T061300
CREATED:20250205T215357Z
LAST-MODIFIED:20250205T215537Z
UID:10060091-1780570800-1780596000@21fss.com
SUMMARY:Lap Swim
DESCRIPTION:
URL:https://21fss.com/event/lap-swim-15/2026-06-04/
LOCATION:Peterson Aquatics Center\, Peterson SFB\, 80914
CATEGORIES:Aqua Hours
ORGANIZER;CN="Peterson Aquatic Center":MAILTO:21fss.aquatics.center@us.af.mil
END:VEVENT
BEGIN:VEVENT
DTSTART;TZID=America/Denver:20260605T060000
DTEND;TZID=America/Denver:20260605T150000
DTSTAMP:20260422T061300
CREATED:20250205T215448Z
LAST-MODIFIED:20250205T215531Z
UID:10060242-1780639200-1780671600@21fss.com
SUMMARY:Lap Swim
DESCRIPTION:
URL:https://21fss.com/event/lap-swim-16/2026-06-05/
LOCATION:Peterson Aquatics Center\, Peterson SFB\, 80914
CATEGORIES:Aqua Hours
ORGANIZER;CN="Peterson Aquatic Center":MAILTO:21fss.aquatics.center@us.af.mil
END:VEVENT
BEGIN:VEVENT
DTSTART;TZID=America/Denver:20260609T110000
DTEND;TZID=America/Denver:20260609T150000
DTSTAMP:20260422T061300
CREATED:20250205T215125Z
LAST-MODIFIED:20250205T215551Z
UID:10060401-1781002800-1781017200@21fss.com
SUMMARY:Lap Swim
DESCRIPTION:
URL:https://21fss.com/event/lap-swim-13/2026-06-09/
LOCATION:Peterson Aquatics Center\, Peterson SFB\, 80914
CATEGORIES:Aqua Hours
ORGANIZER;CN="Peterson Aquatic Center":MAILTO:21fss.aquatics.center@us.af.mil
END:VEVENT
BEGIN:VEVENT
DTSTART;TZID=America/Denver:20260610T060000
DTEND;TZID=America/Denver:20260610T130000
DTSTAMP:20260422T061300
CREATED:20250205T215223Z
LAST-MODIFIED:20250205T215544Z
UID:10059954-1781071200-1781096400@21fss.com
SUMMARY:Lap Swim
DESCRIPTION:
URL:https://21fss.com/event/lap-swim-14/2026-06-10/
LOCATION:Peterson Aquatics Center\, Peterson SFB\, 80914
CATEGORIES:Aqua Hours
ORGANIZER;CN="Peterson Aquatic Center":MAILTO:21fss.aquatics.center@us.af.mil
END:VEVENT
BEGIN:VEVENT
DTSTART;TZID=America/Denver:20260611T110000
DTEND;TZID=America/Denver:20260611T180000
DTSTAMP:20260422T061300
CREATED:20250205T215357Z
LAST-MODIFIED:20250205T215537Z
UID:10060092-1781175600-1781200800@21fss.com
SUMMARY:Lap Swim
DESCRIPTION:
URL:https://21fss.com/event/lap-swim-15/2026-06-11/
LOCATION:Peterson Aquatics Center\, Peterson SFB\, 80914
CATEGORIES:Aqua Hours
ORGANIZER;CN="Peterson Aquatic Center":MAILTO:21fss.aquatics.center@us.af.mil
END:VEVENT
END:VCALENDAR