BEGIN:VCALENDAR
VERSION:2.0
PRODID:-//Peterson Space Force Base - ECPv6.15.20//NONSGML v1.0//EN
CALSCALE:GREGORIAN
METHOD:PUBLISH
X-WR-CALNAME:Peterson Space Force Base
X-ORIGINAL-URL:https://21fss.com
X-WR-CALDESC:Events for Peterson Space Force Base
REFRESH-INTERVAL;VALUE=DURATION:PT1H
X-Robots-Tag:noindex
X-PUBLISHED-TTL:PT1H
BEGIN:VTIMEZONE
TZID:America/Denver
BEGIN:DAYLIGHT
TZOFFSETFROM:-0700
TZOFFSETTO:-0600
TZNAME:MDT
DTSTART:20250309T090000
END:DAYLIGHT
BEGIN:STANDARD
TZOFFSETFROM:-0600
TZOFFSETTO:-0700
TZNAME:MST
DTSTART:20251102T080000
END:STANDARD
BEGIN:DAYLIGHT
TZOFFSETFROM:-0700
TZOFFSETTO:-0600
TZNAME:MDT
DTSTART:20260308T090000
END:DAYLIGHT
BEGIN:STANDARD
TZOFFSETFROM:-0600
TZOFFSETTO:-0700
TZNAME:MST
DTSTART:20261101T080000
END:STANDARD
BEGIN:DAYLIGHT
TZOFFSETFROM:-0700
TZOFFSETTO:-0600
TZNAME:MDT
DTSTART:20270314T090000
END:DAYLIGHT
BEGIN:STANDARD
TZOFFSETFROM:-0600
TZOFFSETTO:-0700
TZNAME:MST
DTSTART:20271107T080000
END:STANDARD
END:VTIMEZONE
BEGIN:VEVENT
DTSTART;TZID=America/Denver:20260422T100000
DTEND;TZID=America/Denver:20260422T130000
DTSTAMP:20260422T071034
CREATED:20250205T222128Z
LAST-MODIFIED:20250205T222412Z
UID:10054194-1776852000-1776862800@21fss.com
SUMMARY:Family Swim - Shallow End
DESCRIPTION:Active Duty: $2.00\nAdults: $5.00\nChildren: $4.00
URL:https://21fss.com/event/family-swim-shallow-end-3/2026-04-22/
LOCATION:Peterson Aquatics Center\, Peterson SFB\, 80914
CATEGORIES:Aqua Hours
ORGANIZER;CN="Peterson Aquatic Center":MAILTO:21fss.aquatics.center@us.af.mil
END:VEVENT
BEGIN:VEVENT
DTSTART;TZID=America/Denver:20260423T140000
DTEND;TZID=America/Denver:20260423T180000
DTSTAMP:20260422T071034
CREATED:20250205T222240Z
LAST-MODIFIED:20250205T222240Z
UID:10055169-1776952800-1776967200@21fss.com
SUMMARY:Family Swim - Shallow End
DESCRIPTION:Active Duty: $2.00\nAdults: $5.00\nChildren: $4.00
URL:https://21fss.com/event/family-swim-shallow-end-8/2026-04-23/
LOCATION:Peterson Aquatics Center\, Peterson SFB\, 80914
CATEGORIES:Aqua Hours
ORGANIZER;CN="Peterson Aquatic Center":MAILTO:21fss.aquatics.center@us.af.mil
END:VEVENT
BEGIN:VEVENT
DTSTART;TZID=America/Denver:20260423T160000
DTEND;TZID=America/Denver:20260423T180000
DTSTAMP:20260422T071034
CREATED:20250205T222915Z
LAST-MODIFIED:20250205T222915Z
UID:10055687-1776960000-1776967200@21fss.com
SUMMARY:Family Swim - Deep End
DESCRIPTION:Active Duty: $2.00\nAdults: $5.00\nChildren: $4.00
URL:https://21fss.com/event/family-swim-deep-end-5/2026-04-23/
LOCATION:Peterson Aquatics Center\, Peterson SFB\, 80914
CATEGORIES:Aqua Hours
ORGANIZER;CN="Peterson Aquatic Center":MAILTO:21fss.aquatics.center@us.af.mil
END:VEVENT
BEGIN:VEVENT
DTSTART;TZID=America/Denver:20260424T140000
DTEND;TZID=America/Denver:20260424T150000
DTSTAMP:20260422T071034
CREATED:20250205T220705Z
LAST-MODIFIED:20250205T221943Z
UID:10059880-1777039200-1777042800@21fss.com
SUMMARY:Family Swim - Shallow End
DESCRIPTION:Active Duty: $2.00\nAdults: $5.00\nChildren: $4.00
URL:https://21fss.com/event/family-swim-shallow-end-3-2/2026-04-24/
LOCATION:Peterson Aquatics Center\, Peterson SFB\, 80914
CATEGORIES:Aqua Hours
ORGANIZER;CN="Peterson Aquatic Center":MAILTO:21fss.aquatics.center@us.af.mil
END:VEVENT
BEGIN:VEVENT
DTSTART;TZID=America/Denver:20260428T140000
DTEND;TZID=America/Denver:20260428T150000
DTSTAMP:20260422T071034
CREATED:20250205T220705Z
LAST-MODIFIED:20250205T221943Z
UID:10059881-1777384800-1777388400@21fss.com
SUMMARY:Family Swim - Shallow End
DESCRIPTION:Active Duty: $2.00\nAdults: $5.00\nChildren: $4.00
URL:https://21fss.com/event/family-swim-shallow-end-3-2/2026-04-28/
LOCATION:Peterson Aquatics Center\, Peterson SFB\, 80914
CATEGORIES:Aqua Hours
ORGANIZER;CN="Peterson Aquatic Center":MAILTO:21fss.aquatics.center@us.af.mil
END:VEVENT
BEGIN:VEVENT
DTSTART;TZID=America/Denver:20260429T100000
DTEND;TZID=America/Denver:20260429T130000
DTSTAMP:20260422T071034
CREATED:20250205T222128Z
LAST-MODIFIED:20250205T222412Z
UID:10054196-1777456800-1777467600@21fss.com
SUMMARY:Family Swim - Shallow End
DESCRIPTION:Active Duty: $2.00\nAdults: $5.00\nChildren: $4.00
URL:https://21fss.com/event/family-swim-shallow-end-3/2026-04-29/
LOCATION:Peterson Aquatics Center\, Peterson SFB\, 80914
CATEGORIES:Aqua Hours
ORGANIZER;CN="Peterson Aquatic Center":MAILTO:21fss.aquatics.center@us.af.mil
END:VEVENT
BEGIN:VEVENT
DTSTART;TZID=America/Denver:20260430T140000
DTEND;TZID=America/Denver:20260430T180000
DTSTAMP:20260422T071034
CREATED:20250205T222240Z
LAST-MODIFIED:20250205T222240Z
UID:10055170-1777557600-1777572000@21fss.com
SUMMARY:Family Swim - Shallow End
DESCRIPTION:Active Duty: $2.00\nAdults: $5.00\nChildren: $4.00
URL:https://21fss.com/event/family-swim-shallow-end-8/2026-04-30/
LOCATION:Peterson Aquatics Center\, Peterson SFB\, 80914
CATEGORIES:Aqua Hours
ORGANIZER;CN="Peterson Aquatic Center":MAILTO:21fss.aquatics.center@us.af.mil
END:VEVENT
BEGIN:VEVENT
DTSTART;TZID=America/Denver:20260430T160000
DTEND;TZID=America/Denver:20260430T180000
DTSTAMP:20260422T071034
CREATED:20250205T222915Z
LAST-MODIFIED:20250205T222915Z
UID:10055688-1777564800-1777572000@21fss.com
SUMMARY:Family Swim - Deep End
DESCRIPTION:Active Duty: $2.00\nAdults: $5.00\nChildren: $4.00
URL:https://21fss.com/event/family-swim-deep-end-5/2026-04-30/
LOCATION:Peterson Aquatics Center\, Peterson SFB\, 80914
CATEGORIES:Aqua Hours
ORGANIZER;CN="Peterson Aquatic Center":MAILTO:21fss.aquatics.center@us.af.mil
END:VEVENT
BEGIN:VEVENT
DTSTART;TZID=America/Denver:20260501T140000
DTEND;TZID=America/Denver:20260501T150000
DTSTAMP:20260422T071034
CREATED:20250205T220705Z
LAST-MODIFIED:20250205T221943Z
UID:10059882-1777644000-1777647600@21fss.com
SUMMARY:Family Swim - Shallow End
DESCRIPTION:Active Duty: $2.00\nAdults: $5.00\nChildren: $4.00
URL:https://21fss.com/event/family-swim-shallow-end-3-2/2026-05-01/
LOCATION:Peterson Aquatics Center\, Peterson SFB\, 80914
CATEGORIES:Aqua Hours
ORGANIZER;CN="Peterson Aquatic Center":MAILTO:21fss.aquatics.center@us.af.mil
END:VEVENT
BEGIN:VEVENT
DTSTART;TZID=America/Denver:20260505T140000
DTEND;TZID=America/Denver:20260505T150000
DTSTAMP:20260422T071034
CREATED:20250205T220705Z
LAST-MODIFIED:20250205T221943Z
UID:10059883-1777989600-1777993200@21fss.com
SUMMARY:Family Swim - Shallow End
DESCRIPTION:Active Duty: $2.00\nAdults: $5.00\nChildren: $4.00
URL:https://21fss.com/event/family-swim-shallow-end-3-2/2026-05-05/
LOCATION:Peterson Aquatics Center\, Peterson SFB\, 80914
CATEGORIES:Aqua Hours
ORGANIZER;CN="Peterson Aquatic Center":MAILTO:21fss.aquatics.center@us.af.mil
END:VEVENT
BEGIN:VEVENT
DTSTART;TZID=America/Denver:20260506T100000
DTEND;TZID=America/Denver:20260506T130000
DTSTAMP:20260422T071034
CREATED:20250205T222128Z
LAST-MODIFIED:20250205T222412Z
UID:10054198-1778061600-1778072400@21fss.com
SUMMARY:Family Swim - Shallow End
DESCRIPTION:Active Duty: $2.00\nAdults: $5.00\nChildren: $4.00
URL:https://21fss.com/event/family-swim-shallow-end-3/2026-05-06/
LOCATION:Peterson Aquatics Center\, Peterson SFB\, 80914
CATEGORIES:Aqua Hours
ORGANIZER;CN="Peterson Aquatic Center":MAILTO:21fss.aquatics.center@us.af.mil
END:VEVENT
BEGIN:VEVENT
DTSTART;TZID=America/Denver:20260507T140000
DTEND;TZID=America/Denver:20260507T180000
DTSTAMP:20260422T071034
CREATED:20250205T222240Z
LAST-MODIFIED:20250205T222240Z
UID:10055171-1778162400-1778176800@21fss.com
SUMMARY:Family Swim - Shallow End
DESCRIPTION:Active Duty: $2.00\nAdults: $5.00\nChildren: $4.00
URL:https://21fss.com/event/family-swim-shallow-end-8/2026-05-07/
LOCATION:Peterson Aquatics Center\, Peterson SFB\, 80914
CATEGORIES:Aqua Hours
ORGANIZER;CN="Peterson Aquatic Center":MAILTO:21fss.aquatics.center@us.af.mil
END:VEVENT
BEGIN:VEVENT
DTSTART;TZID=America/Denver:20260507T160000
DTEND;TZID=America/Denver:20260507T180000
DTSTAMP:20260422T071034
CREATED:20250205T222915Z
LAST-MODIFIED:20250205T222915Z
UID:10055689-1778169600-1778176800@21fss.com
SUMMARY:Family Swim - Deep End
DESCRIPTION:Active Duty: $2.00\nAdults: $5.00\nChildren: $4.00
URL:https://21fss.com/event/family-swim-deep-end-5/2026-05-07/
LOCATION:Peterson Aquatics Center\, Peterson SFB\, 80914
CATEGORIES:Aqua Hours
ORGANIZER;CN="Peterson Aquatic Center":MAILTO:21fss.aquatics.center@us.af.mil
END:VEVENT
BEGIN:VEVENT
DTSTART;TZID=America/Denver:20260508T140000
DTEND;TZID=America/Denver:20260508T150000
DTSTAMP:20260422T071034
CREATED:20250205T220705Z
LAST-MODIFIED:20250205T221943Z
UID:10059884-1778248800-1778252400@21fss.com
SUMMARY:Family Swim - Shallow End
DESCRIPTION:Active Duty: $2.00\nAdults: $5.00\nChildren: $4.00
URL:https://21fss.com/event/family-swim-shallow-end-3-2/2026-05-08/
LOCATION:Peterson Aquatics Center\, Peterson SFB\, 80914
CATEGORIES:Aqua Hours
ORGANIZER;CN="Peterson Aquatic Center":MAILTO:21fss.aquatics.center@us.af.mil
END:VEVENT
BEGIN:VEVENT
DTSTART;TZID=America/Denver:20260512T140000
DTEND;TZID=America/Denver:20260512T150000
DTSTAMP:20260422T071034
CREATED:20250205T220705Z
LAST-MODIFIED:20250205T221943Z
UID:10059885-1778594400-1778598000@21fss.com
SUMMARY:Family Swim - Shallow End
DESCRIPTION:Active Duty: $2.00\nAdults: $5.00\nChildren: $4.00
URL:https://21fss.com/event/family-swim-shallow-end-3-2/2026-05-12/
LOCATION:Peterson Aquatics Center\, Peterson SFB\, 80914
CATEGORIES:Aqua Hours
ORGANIZER;CN="Peterson Aquatic Center":MAILTO:21fss.aquatics.center@us.af.mil
END:VEVENT
BEGIN:VEVENT
DTSTART;TZID=America/Denver:20260513T100000
DTEND;TZID=America/Denver:20260513T130000
DTSTAMP:20260422T071034
CREATED:20250205T222128Z
LAST-MODIFIED:20250205T222412Z
UID:10054200-1778666400-1778677200@21fss.com
SUMMARY:Family Swim - Shallow End
DESCRIPTION:Active Duty: $2.00\nAdults: $5.00\nChildren: $4.00
URL:https://21fss.com/event/family-swim-shallow-end-3/2026-05-13/
LOCATION:Peterson Aquatics Center\, Peterson SFB\, 80914
CATEGORIES:Aqua Hours
ORGANIZER;CN="Peterson Aquatic Center":MAILTO:21fss.aquatics.center@us.af.mil
END:VEVENT
BEGIN:VEVENT
DTSTART;TZID=America/Denver:20260514T140000
DTEND;TZID=America/Denver:20260514T180000
DTSTAMP:20260422T071034
CREATED:20250205T222240Z
LAST-MODIFIED:20250205T222240Z
UID:10059906-1778767200-1778781600@21fss.com
SUMMARY:Family Swim - Shallow End
DESCRIPTION:Active Duty: $2.00\nAdults: $5.00\nChildren: $4.00
URL:https://21fss.com/event/family-swim-shallow-end-8/2026-05-14/
LOCATION:Peterson Aquatics Center\, Peterson SFB\, 80914
CATEGORIES:Aqua Hours
ORGANIZER;CN="Peterson Aquatic Center":MAILTO:21fss.aquatics.center@us.af.mil
END:VEVENT
BEGIN:VEVENT
DTSTART;TZID=America/Denver:20260514T160000
DTEND;TZID=America/Denver:20260514T180000
DTSTAMP:20260422T071034
CREATED:20250205T222915Z
LAST-MODIFIED:20250205T222915Z
UID:10059908-1778774400-1778781600@21fss.com
SUMMARY:Family Swim - Deep End
DESCRIPTION:Active Duty: $2.00\nAdults: $5.00\nChildren: $4.00
URL:https://21fss.com/event/family-swim-deep-end-5/2026-05-14/
LOCATION:Peterson Aquatics Center\, Peterson SFB\, 80914
CATEGORIES:Aqua Hours
ORGANIZER;CN="Peterson Aquatic Center":MAILTO:21fss.aquatics.center@us.af.mil
END:VEVENT
BEGIN:VEVENT
DTSTART;TZID=America/Denver:20260515T140000
DTEND;TZID=America/Denver:20260515T150000
DTSTAMP:20260422T071034
CREATED:20250205T220705Z
LAST-MODIFIED:20250205T221943Z
UID:10059886-1778853600-1778857200@21fss.com
SUMMARY:Family Swim - Shallow End
DESCRIPTION:Active Duty: $2.00\nAdults: $5.00\nChildren: $4.00
URL:https://21fss.com/event/family-swim-shallow-end-3-2/2026-05-15/
LOCATION:Peterson Aquatics Center\, Peterson SFB\, 80914
CATEGORIES:Aqua Hours
ORGANIZER;CN="Peterson Aquatic Center":MAILTO:21fss.aquatics.center@us.af.mil
END:VEVENT
BEGIN:VEVENT
DTSTART;TZID=America/Denver:20260519T140000
DTEND;TZID=America/Denver:20260519T150000
DTSTAMP:20260422T071034
CREATED:20250205T220705Z
LAST-MODIFIED:20250205T221943Z
UID:10059887-1779199200-1779202800@21fss.com
SUMMARY:Family Swim - Shallow End
DESCRIPTION:Active Duty: $2.00\nAdults: $5.00\nChildren: $4.00
URL:https://21fss.com/event/family-swim-shallow-end-3-2/2026-05-19/
LOCATION:Peterson Aquatics Center\, Peterson SFB\, 80914
CATEGORIES:Aqua Hours
ORGANIZER;CN="Peterson Aquatic Center":MAILTO:21fss.aquatics.center@us.af.mil
END:VEVENT
BEGIN:VEVENT
DTSTART;TZID=America/Denver:20260520T100000
DTEND;TZID=America/Denver:20260520T130000
DTSTAMP:20260422T071034
CREATED:20250205T222128Z
LAST-MODIFIED:20250205T222412Z
UID:10054202-1779271200-1779282000@21fss.com
SUMMARY:Family Swim - Shallow End
DESCRIPTION:Active Duty: $2.00\nAdults: $5.00\nChildren: $4.00
URL:https://21fss.com/event/family-swim-shallow-end-3/2026-05-20/
LOCATION:Peterson Aquatics Center\, Peterson SFB\, 80914
CATEGORIES:Aqua Hours
ORGANIZER;CN="Peterson Aquatic Center":MAILTO:21fss.aquatics.center@us.af.mil
END:VEVENT
BEGIN:VEVENT
DTSTART;TZID=America/Denver:20260521T140000
DTEND;TZID=America/Denver:20260521T180000
DTSTAMP:20260422T071034
CREATED:20250205T222240Z
LAST-MODIFIED:20250205T222240Z
UID:10059907-1779372000-1779386400@21fss.com
SUMMARY:Family Swim - Shallow End
DESCRIPTION:Active Duty: $2.00\nAdults: $5.00\nChildren: $4.00
URL:https://21fss.com/event/family-swim-shallow-end-8/2026-05-21/
LOCATION:Peterson Aquatics Center\, Peterson SFB\, 80914
CATEGORIES:Aqua Hours
ORGANIZER;CN="Peterson Aquatic Center":MAILTO:21fss.aquatics.center@us.af.mil
END:VEVENT
BEGIN:VEVENT
DTSTART;TZID=America/Denver:20260521T160000
DTEND;TZID=America/Denver:20260521T180000
DTSTAMP:20260422T071034
CREATED:20250205T222915Z
LAST-MODIFIED:20250205T222915Z
UID:10059909-1779379200-1779386400@21fss.com
SUMMARY:Family Swim - Deep End
DESCRIPTION:Active Duty: $2.00\nAdults: $5.00\nChildren: $4.00
URL:https://21fss.com/event/family-swim-deep-end-5/2026-05-21/
LOCATION:Peterson Aquatics Center\, Peterson SFB\, 80914
CATEGORIES:Aqua Hours
ORGANIZER;CN="Peterson Aquatic Center":MAILTO:21fss.aquatics.center@us.af.mil
END:VEVENT
BEGIN:VEVENT
DTSTART;TZID=America/Denver:20260522T140000
DTEND;TZID=America/Denver:20260522T150000
DTSTAMP:20260422T071034
CREATED:20250205T220705Z
LAST-MODIFIED:20250205T221943Z
UID:10059888-1779458400-1779462000@21fss.com
SUMMARY:Family Swim - Shallow End
DESCRIPTION:Active Duty: $2.00\nAdults: $5.00\nChildren: $4.00
URL:https://21fss.com/event/family-swim-shallow-end-3-2/2026-05-22/
LOCATION:Peterson Aquatics Center\, Peterson SFB\, 80914
CATEGORIES:Aqua Hours
ORGANIZER;CN="Peterson Aquatic Center":MAILTO:21fss.aquatics.center@us.af.mil
END:VEVENT
BEGIN:VEVENT
DTSTART;TZID=America/Denver:20260526T140000
DTEND;TZID=America/Denver:20260526T150000
DTSTAMP:20260422T071034
CREATED:20250205T220705Z
LAST-MODIFIED:20250205T221943Z
UID:10059933-1779804000-1779807600@21fss.com
SUMMARY:Family Swim - Shallow End
DESCRIPTION:Active Duty: $2.00\nAdults: $5.00\nChildren: $4.00
URL:https://21fss.com/event/family-swim-shallow-end-3-2/2026-05-26/
LOCATION:Peterson Aquatics Center\, Peterson SFB\, 80914
CATEGORIES:Aqua Hours
ORGANIZER;CN="Peterson Aquatic Center":MAILTO:21fss.aquatics.center@us.af.mil
END:VEVENT
BEGIN:VEVENT
DTSTART;TZID=America/Denver:20260527T100000
DTEND;TZID=America/Denver:20260527T130000
DTSTAMP:20260422T071034
CREATED:20250205T222128Z
LAST-MODIFIED:20250205T222412Z
UID:10059966-1779876000-1779886800@21fss.com
SUMMARY:Family Swim - Shallow End
DESCRIPTION:Active Duty: $2.00\nAdults: $5.00\nChildren: $4.00
URL:https://21fss.com/event/family-swim-shallow-end-3/2026-05-27/
LOCATION:Peterson Aquatics Center\, Peterson SFB\, 80914
CATEGORIES:Aqua Hours
ORGANIZER;CN="Peterson Aquatic Center":MAILTO:21fss.aquatics.center@us.af.mil
END:VEVENT
BEGIN:VEVENT
DTSTART;TZID=America/Denver:20260528T140000
DTEND;TZID=America/Denver:20260528T180000
DTSTAMP:20260422T071034
CREATED:20250205T222240Z
LAST-MODIFIED:20250205T222240Z
UID:10060104-1779976800-1779991200@21fss.com
SUMMARY:Family Swim - Shallow End
DESCRIPTION:Active Duty: $2.00\nAdults: $5.00\nChildren: $4.00
URL:https://21fss.com/event/family-swim-shallow-end-8/2026-05-28/
LOCATION:Peterson Aquatics Center\, Peterson SFB\, 80914
CATEGORIES:Aqua Hours
ORGANIZER;CN="Peterson Aquatic Center":MAILTO:21fss.aquatics.center@us.af.mil
END:VEVENT
BEGIN:VEVENT
DTSTART;TZID=America/Denver:20260528T160000
DTEND;TZID=America/Denver:20260528T180000
DTSTAMP:20260422T071034
CREATED:20250205T222915Z
LAST-MODIFIED:20250205T222915Z
UID:10060172-1779984000-1779991200@21fss.com
SUMMARY:Family Swim - Deep End
DESCRIPTION:Active Duty: $2.00\nAdults: $5.00\nChildren: $4.00
URL:https://21fss.com/event/family-swim-deep-end-5/2026-05-28/
LOCATION:Peterson Aquatics Center\, Peterson SFB\, 80914
CATEGORIES:Aqua Hours
ORGANIZER;CN="Peterson Aquatic Center":MAILTO:21fss.aquatics.center@us.af.mil
END:VEVENT
BEGIN:VEVENT
DTSTART;TZID=America/Denver:20260529T140000
DTEND;TZID=America/Denver:20260529T150000
DTSTAMP:20260422T071034
CREATED:20250205T220705Z
LAST-MODIFIED:20250205T221943Z
UID:10060269-1780063200-1780066800@21fss.com
SUMMARY:Family Swim - Shallow End
DESCRIPTION:Active Duty: $2.00\nAdults: $5.00\nChildren: $4.00
URL:https://21fss.com/event/family-swim-shallow-end-3-2/2026-05-29/
LOCATION:Peterson Aquatics Center\, Peterson SFB\, 80914
CATEGORIES:Aqua Hours
ORGANIZER;CN="Peterson Aquatic Center":MAILTO:21fss.aquatics.center@us.af.mil
END:VEVENT
BEGIN:VEVENT
DTSTART;TZID=America/Denver:20260602T140000
DTEND;TZID=America/Denver:20260602T150000
DTSTAMP:20260422T071034
CREATED:20250205T220705Z
LAST-MODIFIED:20250205T221943Z
UID:10060270-1780408800-1780412400@21fss.com
SUMMARY:Family Swim - Shallow End
DESCRIPTION:Active Duty: $2.00\nAdults: $5.00\nChildren: $4.00
URL:https://21fss.com/event/family-swim-shallow-end-3-2/2026-06-02/
LOCATION:Peterson Aquatics Center\, Peterson SFB\, 80914
CATEGORIES:Aqua Hours
ORGANIZER;CN="Peterson Aquatic Center":MAILTO:21fss.aquatics.center@us.af.mil
END:VEVENT
END:VCALENDAR