BEGIN:VCALENDAR
VERSION:2.0
PRODID:-//Peterson Space Force Base - ECPv6.15.20//NONSGML v1.0//EN
CALSCALE:GREGORIAN
METHOD:PUBLISH
X-WR-CALNAME:Peterson Space Force Base
X-ORIGINAL-URL:https://21fss.com
X-WR-CALDESC:Events for Peterson Space Force Base
REFRESH-INTERVAL;VALUE=DURATION:PT1H
X-Robots-Tag:noindex
X-PUBLISHED-TTL:PT1H
BEGIN:VTIMEZONE
TZID:UTC
BEGIN:STANDARD
TZOFFSETFROM:+0000
TZOFFSETTO:+0000
TZNAME:UTC
DTSTART:20250101T000000
END:STANDARD
END:VTIMEZONE
BEGIN:VEVENT
DTSTART;TZID=UTC:20260429T170000
DTEND;TZID=UTC:20260429T190000
DTSTAMP:20260422T202016
CREATED:20251217T134612Z
LAST-MODIFIED:20260317T173156Z
UID:10062260-1777482000-1777489200@21fss.com
SUMMARY:Deployed Family Dinner
DESCRIPTION:The Peterson M&FRC strives to keep our deployed families informed about all the tools and resources available to them in order to better support them during these challenging times.   \n\n\n\nThe 2026 Deployed Family Dinners are offered at The Hub every month from January through December. Dinner will be provided\, various helping agencies will be in attendance\, and it’s an opportunity to meet with SBD 1 leadership. \n\n\n\nPlease RSVP by the Friday prior to the event by calling M&FRC at 719-556-6141 or send an email to 21FSS.FSFR@us.af.mil. \n\n\n\n\n\n\n\n\n\n\n\n\n\n\n\n 
URL:https://21fss.com/event/deployed-family-dinner/2026-04-29/
LOCATION:The Peterson Hub – Community Center\, 260 Glasgow Ave # 1013\, Peterson SFB\, CO\, 80914\, United States
CATEGORIES:Front Page,Fun,M&FRC
ATTACH;FMTTYPE=image/png:https://21fss.com/wp-content/uploads/2025/12/2026-DeployedFamilyDinners_MFRC_Web-Event_960x540.png
ORGANIZER;CN="M&FRC":MAILTO:21FSS.FSFR@us.af.mil
END:VEVENT
BEGIN:VEVENT
DTSTART;TZID=UTC:20260527T170000
DTEND;TZID=UTC:20260527T190000
DTSTAMP:20260422T202016
CREATED:20251217T134612Z
LAST-MODIFIED:20260317T173156Z
UID:10062261-1779901200-1779908400@21fss.com
SUMMARY:Deployed Family Dinner
DESCRIPTION:The Peterson M&FRC strives to keep our deployed families informed about all the tools and resources available to them in order to better support them during these challenging times.   \n\n\n\nThe 2026 Deployed Family Dinners are offered at The Hub every month from January through December. Dinner will be provided\, various helping agencies will be in attendance\, and it’s an opportunity to meet with SBD 1 leadership. \n\n\n\nPlease RSVP by the Friday prior to the event by calling M&FRC at 719-556-6141 or send an email to 21FSS.FSFR@us.af.mil. \n\n\n\n\n\n\n\n\n\n\n\n\n\n\n\n 
URL:https://21fss.com/event/deployed-family-dinner/2026-05-27/
LOCATION:The Peterson Hub – Community Center\, 260 Glasgow Ave # 1013\, Peterson SFB\, CO\, 80914\, United States
CATEGORIES:Front Page,Fun,M&FRC
ATTACH;FMTTYPE=image/png:https://21fss.com/wp-content/uploads/2025/12/2026-DeployedFamilyDinners_MFRC_Web-Event_960x540.png
ORGANIZER;CN="M&FRC":MAILTO:21FSS.FSFR@us.af.mil
END:VEVENT
BEGIN:VEVENT
DTSTART;TZID=UTC:20260624T170000
DTEND;TZID=UTC:20260624T190000
DTSTAMP:20260422T202016
CREATED:20251217T134612Z
LAST-MODIFIED:20260317T173156Z
UID:10062262-1782320400-1782327600@21fss.com
SUMMARY:Deployed Family Dinner
DESCRIPTION:The Peterson M&FRC strives to keep our deployed families informed about all the tools and resources available to them in order to better support them during these challenging times.   \n\n\n\nThe 2026 Deployed Family Dinners are offered at The Hub every month from January through December. Dinner will be provided\, various helping agencies will be in attendance\, and it’s an opportunity to meet with SBD 1 leadership. \n\n\n\nPlease RSVP by the Friday prior to the event by calling M&FRC at 719-556-6141 or send an email to 21FSS.FSFR@us.af.mil. \n\n\n\n\n\n\n\n\n\n\n\n\n\n\n\n 
URL:https://21fss.com/event/deployed-family-dinner/2026-06-24/
LOCATION:The Peterson Hub – Community Center\, 260 Glasgow Ave # 1013\, Peterson SFB\, CO\, 80914\, United States
CATEGORIES:Front Page,Fun,M&FRC
ATTACH;FMTTYPE=image/png:https://21fss.com/wp-content/uploads/2025/12/2026-DeployedFamilyDinners_MFRC_Web-Event_960x540.png
ORGANIZER;CN="M&FRC":MAILTO:21FSS.FSFR@us.af.mil
END:VEVENT
BEGIN:VEVENT
DTSTART;TZID=UTC:20260729T170000
DTEND;TZID=UTC:20260729T190000
DTSTAMP:20260422T202016
CREATED:20251217T134612Z
LAST-MODIFIED:20260317T173156Z
UID:10062263-1785344400-1785351600@21fss.com
SUMMARY:Deployed Family Dinner
DESCRIPTION:The Peterson M&FRC strives to keep our deployed families informed about all the tools and resources available to them in order to better support them during these challenging times.   \n\n\n\nThe 2026 Deployed Family Dinners are offered at The Hub every month from January through December. Dinner will be provided\, various helping agencies will be in attendance\, and it’s an opportunity to meet with SBD 1 leadership. \n\n\n\nPlease RSVP by the Friday prior to the event by calling M&FRC at 719-556-6141 or send an email to 21FSS.FSFR@us.af.mil. \n\n\n\n\n\n\n\n\n\n\n\n\n\n\n\n 
URL:https://21fss.com/event/deployed-family-dinner/2026-07-29/
LOCATION:The Peterson Hub – Community Center\, 260 Glasgow Ave # 1013\, Peterson SFB\, CO\, 80914\, United States
CATEGORIES:Front Page,Fun,M&FRC
ATTACH;FMTTYPE=image/png:https://21fss.com/wp-content/uploads/2025/12/2026-DeployedFamilyDinners_MFRC_Web-Event_960x540.png
ORGANIZER;CN="M&FRC":MAILTO:21FSS.FSFR@us.af.mil
END:VEVENT
BEGIN:VEVENT
DTSTART;TZID=UTC:20260826T170000
DTEND;TZID=UTC:20260826T190000
DTSTAMP:20260422T202016
CREATED:20251217T134612Z
LAST-MODIFIED:20260317T173156Z
UID:10062264-1787763600-1787770800@21fss.com
SUMMARY:Deployed Family Dinner
DESCRIPTION:The Peterson M&FRC strives to keep our deployed families informed about all the tools and resources available to them in order to better support them during these challenging times.   \n\n\n\nThe 2026 Deployed Family Dinners are offered at The Hub every month from January through December. Dinner will be provided\, various helping agencies will be in attendance\, and it’s an opportunity to meet with SBD 1 leadership. \n\n\n\nPlease RSVP by the Friday prior to the event by calling M&FRC at 719-556-6141 or send an email to 21FSS.FSFR@us.af.mil. \n\n\n\n\n\n\n\n\n\n\n\n\n\n\n\n 
URL:https://21fss.com/event/deployed-family-dinner/2026-08-26/
LOCATION:The Peterson Hub – Community Center\, 260 Glasgow Ave # 1013\, Peterson SFB\, CO\, 80914\, United States
CATEGORIES:Front Page,Fun,M&FRC
ATTACH;FMTTYPE=image/png:https://21fss.com/wp-content/uploads/2025/12/2026-DeployedFamilyDinners_MFRC_Web-Event_960x540.png
ORGANIZER;CN="M&FRC":MAILTO:21FSS.FSFR@us.af.mil
END:VEVENT
BEGIN:VEVENT
DTSTART;TZID=UTC:20260930T170000
DTEND;TZID=UTC:20260930T190000
DTSTAMP:20260422T202016
CREATED:20251217T134612Z
LAST-MODIFIED:20260317T173156Z
UID:10062265-1790787600-1790794800@21fss.com
SUMMARY:Deployed Family Dinner
DESCRIPTION:The Peterson M&FRC strives to keep our deployed families informed about all the tools and resources available to them in order to better support them during these challenging times.   \n\n\n\nThe 2026 Deployed Family Dinners are offered at The Hub every month from January through December. Dinner will be provided\, various helping agencies will be in attendance\, and it’s an opportunity to meet with SBD 1 leadership. \n\n\n\nPlease RSVP by the Friday prior to the event by calling M&FRC at 719-556-6141 or send an email to 21FSS.FSFR@us.af.mil. \n\n\n\n\n\n\n\n\n\n\n\n\n\n\n\n 
URL:https://21fss.com/event/deployed-family-dinner/2026-09-30/
LOCATION:The Peterson Hub – Community Center\, 260 Glasgow Ave # 1013\, Peterson SFB\, CO\, 80914\, United States
CATEGORIES:Front Page,Fun,M&FRC
ATTACH;FMTTYPE=image/png:https://21fss.com/wp-content/uploads/2025/12/2026-DeployedFamilyDinners_MFRC_Web-Event_960x540.png
ORGANIZER;CN="M&FRC":MAILTO:21FSS.FSFR@us.af.mil
END:VEVENT
BEGIN:VEVENT
DTSTART;TZID=UTC:20261028T170000
DTEND;TZID=UTC:20261028T190000
DTSTAMP:20260422T202016
CREATED:20251217T134612Z
LAST-MODIFIED:20260317T173156Z
UID:10062266-1793206800-1793214000@21fss.com
SUMMARY:Deployed Family Dinner
DESCRIPTION:The Peterson M&FRC strives to keep our deployed families informed about all the tools and resources available to them in order to better support them during these challenging times.   \n\n\n\nThe 2026 Deployed Family Dinners are offered at The Hub every month from January through December. Dinner will be provided\, various helping agencies will be in attendance\, and it’s an opportunity to meet with SBD 1 leadership. \n\n\n\nPlease RSVP by the Friday prior to the event by calling M&FRC at 719-556-6141 or send an email to 21FSS.FSFR@us.af.mil. \n\n\n\n\n\n\n\n\n\n\n\n\n\n\n\n 
URL:https://21fss.com/event/deployed-family-dinner/2026-10-28/
LOCATION:The Peterson Hub – Community Center\, 260 Glasgow Ave # 1013\, Peterson SFB\, CO\, 80914\, United States
CATEGORIES:Front Page,Fun,M&FRC
ATTACH;FMTTYPE=image/png:https://21fss.com/wp-content/uploads/2025/12/2026-DeployedFamilyDinners_MFRC_Web-Event_960x540.png
ORGANIZER;CN="M&FRC":MAILTO:21FSS.FSFR@us.af.mil
END:VEVENT
BEGIN:VEVENT
DTSTART;TZID=UTC:20261118T170000
DTEND;TZID=UTC:20261118T190000
DTSTAMP:20260422T202016
CREATED:20251217T134612Z
LAST-MODIFIED:20260317T173156Z
UID:10062267-1795021200-1795028400@21fss.com
SUMMARY:Deployed Family Dinner
DESCRIPTION:The Peterson M&FRC strives to keep our deployed families informed about all the tools and resources available to them in order to better support them during these challenging times.   \n\n\n\nThe 2026 Deployed Family Dinners are offered at The Hub every month from January through December. Dinner will be provided\, various helping agencies will be in attendance\, and it’s an opportunity to meet with SBD 1 leadership. \n\n\n\nPlease RSVP by the Friday prior to the event by calling M&FRC at 719-556-6141 or send an email to 21FSS.FSFR@us.af.mil. \n\n\n\n\n\n\n\n\n\n\n\n\n\n\n\n 
URL:https://21fss.com/event/deployed-family-dinner/2026-11-18/
LOCATION:The Peterson Hub – Community Center\, 260 Glasgow Ave # 1013\, Peterson SFB\, CO\, 80914\, United States
CATEGORIES:Front Page,Fun,M&FRC
ATTACH;FMTTYPE=image/png:https://21fss.com/wp-content/uploads/2025/12/2026-DeployedFamilyDinners_MFRC_Web-Event_960x540.png
ORGANIZER;CN="M&FRC":MAILTO:21FSS.FSFR@us.af.mil
END:VEVENT
BEGIN:VEVENT
DTSTART;TZID=UTC:20261216T170000
DTEND;TZID=UTC:20261216T190000
DTSTAMP:20260422T202016
CREATED:20251217T134612Z
LAST-MODIFIED:20260317T173156Z
UID:10062268-1797440400-1797447600@21fss.com
SUMMARY:Deployed Family Dinner
DESCRIPTION:The Peterson M&FRC strives to keep our deployed families informed about all the tools and resources available to them in order to better support them during these challenging times.   \n\n\n\nThe 2026 Deployed Family Dinners are offered at The Hub every month from January through December. Dinner will be provided\, various helping agencies will be in attendance\, and it’s an opportunity to meet with SBD 1 leadership. \n\n\n\nPlease RSVP by the Friday prior to the event by calling M&FRC at 719-556-6141 or send an email to 21FSS.FSFR@us.af.mil. \n\n\n\n\n\n\n\n\n\n\n\n\n\n\n\n 
URL:https://21fss.com/event/deployed-family-dinner/2026-12-16/
LOCATION:The Peterson Hub – Community Center\, 260 Glasgow Ave # 1013\, Peterson SFB\, CO\, 80914\, United States
CATEGORIES:Front Page,Fun,M&FRC
ATTACH;FMTTYPE=image/png:https://21fss.com/wp-content/uploads/2025/12/2026-DeployedFamilyDinners_MFRC_Web-Event_960x540.png
ORGANIZER;CN="M&FRC":MAILTO:21FSS.FSFR@us.af.mil
END:VEVENT
END:VCALENDAR