BEGIN:VCALENDAR
VERSION:2.0
PRODID:-//Peterson Space Force Base - ECPv6.15.20//NONSGML v1.0//EN
CALSCALE:GREGORIAN
METHOD:PUBLISH
X-WR-CALNAME:Peterson Space Force Base
X-ORIGINAL-URL:https://21fss.com
X-WR-CALDESC:Events for Peterson Space Force Base
REFRESH-INTERVAL;VALUE=DURATION:PT1H
X-Robots-Tag:noindex
X-PUBLISHED-TTL:PT1H
BEGIN:VTIMEZONE
TZID:America/Denver
BEGIN:DAYLIGHT
TZOFFSETFROM:-0700
TZOFFSETTO:-0600
TZNAME:MDT
DTSTART:20250309T090000
END:DAYLIGHT
BEGIN:STANDARD
TZOFFSETFROM:-0600
TZOFFSETTO:-0700
TZNAME:MST
DTSTART:20251102T080000
END:STANDARD
BEGIN:DAYLIGHT
TZOFFSETFROM:-0700
TZOFFSETTO:-0600
TZNAME:MDT
DTSTART:20260308T090000
END:DAYLIGHT
BEGIN:STANDARD
TZOFFSETFROM:-0600
TZOFFSETTO:-0700
TZNAME:MST
DTSTART:20261101T080000
END:STANDARD
BEGIN:DAYLIGHT
TZOFFSETFROM:-0700
TZOFFSETTO:-0600
TZNAME:MDT
DTSTART:20270314T090000
END:DAYLIGHT
BEGIN:STANDARD
TZOFFSETFROM:-0600
TZOFFSETTO:-0700
TZNAME:MST
DTSTART:20271107T080000
END:STANDARD
END:VTIMEZONE
BEGIN:VEVENT
DTSTART;TZID=America/Denver:20260429T180000
DTEND;TZID=America/Denver:20260429T200000
DTSTAMP:20260422T235735
CREATED:20240605T215544Z
LAST-MODIFIED:20250522T171143Z
UID:10059537-1777485600-1777492800@21fss.com
SUMMARY:Trivia Night
DESCRIPTION:Colorado Pizza & Sports Grill \nWeekly Prizes \nThis program is free and available to all DOD ID Cardholders.
URL:https://21fss.com/event/trivia-night/2026-04-29/
LOCATION:The Peterson Hub – Community Center\, 260 Glasgow Ave # 1013\, Peterson SFB\, CO\, 80914\, United States
CATEGORIES:Peterson Hub
ATTACH;FMTTYPE=image/png:https://21fss.com/wp-content/uploads/2024/06/TriviaNight_Hub_Web_960x540_2025_031725.png
END:VEVENT
BEGIN:VEVENT
DTSTART;TZID=America/Denver:20260506T180000
DTEND;TZID=America/Denver:20260506T200000
DTSTAMP:20260422T235735
CREATED:20240605T215544Z
LAST-MODIFIED:20250522T171143Z
UID:10059799-1778090400-1778097600@21fss.com
SUMMARY:Trivia Night
DESCRIPTION:Colorado Pizza & Sports Grill \nWeekly Prizes \nThis program is free and available to all DOD ID Cardholders.
URL:https://21fss.com/event/trivia-night/2026-05-06/
LOCATION:The Peterson Hub – Community Center\, 260 Glasgow Ave # 1013\, Peterson SFB\, CO\, 80914\, United States
CATEGORIES:Peterson Hub
ATTACH;FMTTYPE=image/png:https://21fss.com/wp-content/uploads/2024/06/TriviaNight_Hub_Web_960x540_2025_031725.png
END:VEVENT
BEGIN:VEVENT
DTSTART;TZID=America/Denver:20260513T180000
DTEND;TZID=America/Denver:20260513T200000
DTSTAMP:20260422T235735
CREATED:20240605T215544Z
LAST-MODIFIED:20250522T171143Z
UID:10059858-1778695200-1778702400@21fss.com
SUMMARY:Trivia Night
DESCRIPTION:Colorado Pizza & Sports Grill \nWeekly Prizes \nThis program is free and available to all DOD ID Cardholders.
URL:https://21fss.com/event/trivia-night/2026-05-13/
LOCATION:The Peterson Hub – Community Center\, 260 Glasgow Ave # 1013\, Peterson SFB\, CO\, 80914\, United States
CATEGORIES:Peterson Hub
ATTACH;FMTTYPE=image/png:https://21fss.com/wp-content/uploads/2024/06/TriviaNight_Hub_Web_960x540_2025_031725.png
END:VEVENT
BEGIN:VEVENT
DTSTART;TZID=America/Denver:20260520T180000
DTEND;TZID=America/Denver:20260520T200000
DTSTAMP:20260422T235735
CREATED:20240605T215544Z
LAST-MODIFIED:20250522T171143Z
UID:10059872-1779300000-1779307200@21fss.com
SUMMARY:Trivia Night
DESCRIPTION:Colorado Pizza & Sports Grill \nWeekly Prizes \nThis program is free and available to all DOD ID Cardholders.
URL:https://21fss.com/event/trivia-night/2026-05-20/
LOCATION:The Peterson Hub – Community Center\, 260 Glasgow Ave # 1013\, Peterson SFB\, CO\, 80914\, United States
CATEGORIES:Peterson Hub
ATTACH;FMTTYPE=image/png:https://21fss.com/wp-content/uploads/2024/06/TriviaNight_Hub_Web_960x540_2025_031725.png
END:VEVENT
BEGIN:VEVENT
DTSTART;TZID=America/Denver:20260527T180000
DTEND;TZID=America/Denver:20260527T200000
DTSTAMP:20260422T235735
CREATED:20240605T215544Z
LAST-MODIFIED:20250522T171143Z
UID:10060049-1779904800-1779912000@21fss.com
SUMMARY:Trivia Night
DESCRIPTION:Colorado Pizza & Sports Grill \nWeekly Prizes \nThis program is free and available to all DOD ID Cardholders.
URL:https://21fss.com/event/trivia-night/2026-05-27/
LOCATION:The Peterson Hub – Community Center\, 260 Glasgow Ave # 1013\, Peterson SFB\, CO\, 80914\, United States
CATEGORIES:Peterson Hub
ATTACH;FMTTYPE=image/png:https://21fss.com/wp-content/uploads/2024/06/TriviaNight_Hub_Web_960x540_2025_031725.png
END:VEVENT
BEGIN:VEVENT
DTSTART;TZID=America/Denver:20260603T180000
DTEND;TZID=America/Denver:20260603T200000
DTSTAMP:20260422T235735
CREATED:20240605T215544Z
LAST-MODIFIED:20250522T171143Z
UID:10060050-1780509600-1780516800@21fss.com
SUMMARY:Trivia Night
DESCRIPTION:Colorado Pizza & Sports Grill \nWeekly Prizes \nThis program is free and available to all DOD ID Cardholders.
URL:https://21fss.com/event/trivia-night/2026-06-03/
LOCATION:The Peterson Hub – Community Center\, 260 Glasgow Ave # 1013\, Peterson SFB\, CO\, 80914\, United States
CATEGORIES:Peterson Hub
ATTACH;FMTTYPE=image/png:https://21fss.com/wp-content/uploads/2024/06/TriviaNight_Hub_Web_960x540_2025_031725.png
END:VEVENT
BEGIN:VEVENT
DTSTART;TZID=America/Denver:20260610T180000
DTEND;TZID=America/Denver:20260610T200000
DTSTAMP:20260422T235735
CREATED:20240605T215544Z
LAST-MODIFIED:20250522T171143Z
UID:10060051-1781114400-1781121600@21fss.com
SUMMARY:Trivia Night
DESCRIPTION:Colorado Pizza & Sports Grill \nWeekly Prizes \nThis program is free and available to all DOD ID Cardholders.
URL:https://21fss.com/event/trivia-night/2026-06-10/
LOCATION:The Peterson Hub – Community Center\, 260 Glasgow Ave # 1013\, Peterson SFB\, CO\, 80914\, United States
CATEGORIES:Peterson Hub
ATTACH;FMTTYPE=image/png:https://21fss.com/wp-content/uploads/2024/06/TriviaNight_Hub_Web_960x540_2025_031725.png
END:VEVENT
BEGIN:VEVENT
DTSTART;TZID=America/Denver:20260617T180000
DTEND;TZID=America/Denver:20260617T200000
DTSTAMP:20260422T235735
CREATED:20240605T215544Z
LAST-MODIFIED:20250522T171143Z
UID:10060052-1781719200-1781726400@21fss.com
SUMMARY:Trivia Night
DESCRIPTION:Colorado Pizza & Sports Grill \nWeekly Prizes \nThis program is free and available to all DOD ID Cardholders.
URL:https://21fss.com/event/trivia-night/2026-06-17/
LOCATION:The Peterson Hub – Community Center\, 260 Glasgow Ave # 1013\, Peterson SFB\, CO\, 80914\, United States
CATEGORIES:Peterson Hub
ATTACH;FMTTYPE=image/png:https://21fss.com/wp-content/uploads/2024/06/TriviaNight_Hub_Web_960x540_2025_031725.png
END:VEVENT
BEGIN:VEVENT
DTSTART;TZID=America/Denver:20260624T180000
DTEND;TZID=America/Denver:20260624T200000
DTSTAMP:20260422T235735
CREATED:20240605T215544Z
LAST-MODIFIED:20250522T171143Z
UID:10060053-1782324000-1782331200@21fss.com
SUMMARY:Trivia Night
DESCRIPTION:Colorado Pizza & Sports Grill \nWeekly Prizes \nThis program is free and available to all DOD ID Cardholders.
URL:https://21fss.com/event/trivia-night/2026-06-24/
LOCATION:The Peterson Hub – Community Center\, 260 Glasgow Ave # 1013\, Peterson SFB\, CO\, 80914\, United States
CATEGORIES:Peterson Hub
ATTACH;FMTTYPE=image/png:https://21fss.com/wp-content/uploads/2024/06/TriviaNight_Hub_Web_960x540_2025_031725.png
END:VEVENT
BEGIN:VEVENT
DTSTART;TZID=America/Denver:20260701T180000
DTEND;TZID=America/Denver:20260701T200000
DTSTAMP:20260422T235735
CREATED:20240605T215544Z
LAST-MODIFIED:20250522T171143Z
UID:10060054-1782928800-1782936000@21fss.com
SUMMARY:Trivia Night
DESCRIPTION:Colorado Pizza & Sports Grill \nWeekly Prizes \nThis program is free and available to all DOD ID Cardholders.
URL:https://21fss.com/event/trivia-night/2026-07-01/
LOCATION:The Peterson Hub – Community Center\, 260 Glasgow Ave # 1013\, Peterson SFB\, CO\, 80914\, United States
CATEGORIES:Peterson Hub
ATTACH;FMTTYPE=image/png:https://21fss.com/wp-content/uploads/2024/06/TriviaNight_Hub_Web_960x540_2025_031725.png
END:VEVENT
BEGIN:VEVENT
DTSTART;TZID=America/Denver:20260708T180000
DTEND;TZID=America/Denver:20260708T200000
DTSTAMP:20260422T235735
CREATED:20240605T215544Z
LAST-MODIFIED:20250522T171143Z
UID:10060055-1783533600-1783540800@21fss.com
SUMMARY:Trivia Night
DESCRIPTION:Colorado Pizza & Sports Grill \nWeekly Prizes \nThis program is free and available to all DOD ID Cardholders.
URL:https://21fss.com/event/trivia-night/2026-07-08/
LOCATION:The Peterson Hub – Community Center\, 260 Glasgow Ave # 1013\, Peterson SFB\, CO\, 80914\, United States
CATEGORIES:Peterson Hub
ATTACH;FMTTYPE=image/png:https://21fss.com/wp-content/uploads/2024/06/TriviaNight_Hub_Web_960x540_2025_031725.png
END:VEVENT
BEGIN:VEVENT
DTSTART;TZID=America/Denver:20260715T180000
DTEND;TZID=America/Denver:20260715T200000
DTSTAMP:20260422T235735
CREATED:20240605T215544Z
LAST-MODIFIED:20250522T171143Z
UID:10060056-1784138400-1784145600@21fss.com
SUMMARY:Trivia Night
DESCRIPTION:Colorado Pizza & Sports Grill \nWeekly Prizes \nThis program is free and available to all DOD ID Cardholders.
URL:https://21fss.com/event/trivia-night/2026-07-15/
LOCATION:The Peterson Hub – Community Center\, 260 Glasgow Ave # 1013\, Peterson SFB\, CO\, 80914\, United States
CATEGORIES:Peterson Hub
ATTACH;FMTTYPE=image/png:https://21fss.com/wp-content/uploads/2024/06/TriviaNight_Hub_Web_960x540_2025_031725.png
END:VEVENT
BEGIN:VEVENT
DTSTART;TZID=America/Denver:20260722T180000
DTEND;TZID=America/Denver:20260722T200000
DTSTAMP:20260422T235735
CREATED:20240605T215544Z
LAST-MODIFIED:20250522T171143Z
UID:10060057-1784743200-1784750400@21fss.com
SUMMARY:Trivia Night
DESCRIPTION:Colorado Pizza & Sports Grill \nWeekly Prizes \nThis program is free and available to all DOD ID Cardholders.
URL:https://21fss.com/event/trivia-night/2026-07-22/
LOCATION:The Peterson Hub – Community Center\, 260 Glasgow Ave # 1013\, Peterson SFB\, CO\, 80914\, United States
CATEGORIES:Peterson Hub
ATTACH;FMTTYPE=image/png:https://21fss.com/wp-content/uploads/2024/06/TriviaNight_Hub_Web_960x540_2025_031725.png
END:VEVENT
BEGIN:VEVENT
DTSTART;TZID=America/Denver:20260729T180000
DTEND;TZID=America/Denver:20260729T200000
DTSTAMP:20260422T235735
CREATED:20240605T215544Z
LAST-MODIFIED:20250522T171143Z
UID:10060058-1785348000-1785355200@21fss.com
SUMMARY:Trivia Night
DESCRIPTION:Colorado Pizza & Sports Grill \nWeekly Prizes \nThis program is free and available to all DOD ID Cardholders.
URL:https://21fss.com/event/trivia-night/2026-07-29/
LOCATION:The Peterson Hub – Community Center\, 260 Glasgow Ave # 1013\, Peterson SFB\, CO\, 80914\, United States
CATEGORIES:Peterson Hub
ATTACH;FMTTYPE=image/png:https://21fss.com/wp-content/uploads/2024/06/TriviaNight_Hub_Web_960x540_2025_031725.png
END:VEVENT
BEGIN:VEVENT
DTSTART;TZID=America/Denver:20260805T180000
DTEND;TZID=America/Denver:20260805T200000
DTSTAMP:20260422T235735
CREATED:20240605T215544Z
LAST-MODIFIED:20250522T171143Z
UID:10060059-1785952800-1785960000@21fss.com
SUMMARY:Trivia Night
DESCRIPTION:Colorado Pizza & Sports Grill \nWeekly Prizes \nThis program is free and available to all DOD ID Cardholders.
URL:https://21fss.com/event/trivia-night/2026-08-05/
LOCATION:The Peterson Hub – Community Center\, 260 Glasgow Ave # 1013\, Peterson SFB\, CO\, 80914\, United States
CATEGORIES:Peterson Hub
ATTACH;FMTTYPE=image/png:https://21fss.com/wp-content/uploads/2024/06/TriviaNight_Hub_Web_960x540_2025_031725.png
END:VEVENT
BEGIN:VEVENT
DTSTART;TZID=America/Denver:20260812T180000
DTEND;TZID=America/Denver:20260812T200000
DTSTAMP:20260422T235735
CREATED:20240605T215544Z
LAST-MODIFIED:20250522T171143Z
UID:10060060-1786557600-1786564800@21fss.com
SUMMARY:Trivia Night
DESCRIPTION:Colorado Pizza & Sports Grill \nWeekly Prizes \nThis program is free and available to all DOD ID Cardholders.
URL:https://21fss.com/event/trivia-night/2026-08-12/
LOCATION:The Peterson Hub – Community Center\, 260 Glasgow Ave # 1013\, Peterson SFB\, CO\, 80914\, United States
CATEGORIES:Peterson Hub
ATTACH;FMTTYPE=image/png:https://21fss.com/wp-content/uploads/2024/06/TriviaNight_Hub_Web_960x540_2025_031725.png
END:VEVENT
BEGIN:VEVENT
DTSTART;TZID=America/Denver:20260819T180000
DTEND;TZID=America/Denver:20260819T200000
DTSTAMP:20260422T235735
CREATED:20240605T215544Z
LAST-MODIFIED:20250522T171143Z
UID:10060061-1787162400-1787169600@21fss.com
SUMMARY:Trivia Night
DESCRIPTION:Colorado Pizza & Sports Grill \nWeekly Prizes \nThis program is free and available to all DOD ID Cardholders.
URL:https://21fss.com/event/trivia-night/2026-08-19/
LOCATION:The Peterson Hub – Community Center\, 260 Glasgow Ave # 1013\, Peterson SFB\, CO\, 80914\, United States
CATEGORIES:Peterson Hub
ATTACH;FMTTYPE=image/png:https://21fss.com/wp-content/uploads/2024/06/TriviaNight_Hub_Web_960x540_2025_031725.png
END:VEVENT
BEGIN:VEVENT
DTSTART;TZID=America/Denver:20260826T180000
DTEND;TZID=America/Denver:20260826T200000
DTSTAMP:20260422T235735
CREATED:20240605T215544Z
LAST-MODIFIED:20250522T171143Z
UID:10060062-1787767200-1787774400@21fss.com
SUMMARY:Trivia Night
DESCRIPTION:Colorado Pizza & Sports Grill \nWeekly Prizes \nThis program is free and available to all DOD ID Cardholders.
URL:https://21fss.com/event/trivia-night/2026-08-26/
LOCATION:The Peterson Hub – Community Center\, 260 Glasgow Ave # 1013\, Peterson SFB\, CO\, 80914\, United States
CATEGORIES:Peterson Hub
ATTACH;FMTTYPE=image/png:https://21fss.com/wp-content/uploads/2024/06/TriviaNight_Hub_Web_960x540_2025_031725.png
END:VEVENT
BEGIN:VEVENT
DTSTART;TZID=America/Denver:20260902T180000
DTEND;TZID=America/Denver:20260902T200000
DTSTAMP:20260422T235735
CREATED:20240605T215544Z
LAST-MODIFIED:20250522T171143Z
UID:10060648-1788372000-1788379200@21fss.com
SUMMARY:Trivia Night
DESCRIPTION:Colorado Pizza & Sports Grill \nWeekly Prizes \nThis program is free and available to all DOD ID Cardholders.
URL:https://21fss.com/event/trivia-night/2026-09-02/
LOCATION:The Peterson Hub – Community Center\, 260 Glasgow Ave # 1013\, Peterson SFB\, CO\, 80914\, United States
CATEGORIES:Peterson Hub
ATTACH;FMTTYPE=image/png:https://21fss.com/wp-content/uploads/2024/06/TriviaNight_Hub_Web_960x540_2025_031725.png
END:VEVENT
BEGIN:VEVENT
DTSTART;TZID=America/Denver:20260909T180000
DTEND;TZID=America/Denver:20260909T200000
DTSTAMP:20260422T235735
CREATED:20240605T215544Z
LAST-MODIFIED:20250522T171143Z
UID:10060735-1788976800-1788984000@21fss.com
SUMMARY:Trivia Night
DESCRIPTION:Colorado Pizza & Sports Grill \nWeekly Prizes \nThis program is free and available to all DOD ID Cardholders.
URL:https://21fss.com/event/trivia-night/2026-09-09/
LOCATION:The Peterson Hub – Community Center\, 260 Glasgow Ave # 1013\, Peterson SFB\, CO\, 80914\, United States
CATEGORIES:Peterson Hub
ATTACH;FMTTYPE=image/png:https://21fss.com/wp-content/uploads/2024/06/TriviaNight_Hub_Web_960x540_2025_031725.png
END:VEVENT
BEGIN:VEVENT
DTSTART;TZID=America/Denver:20260916T180000
DTEND;TZID=America/Denver:20260916T200000
DTSTAMP:20260422T235735
CREATED:20240605T215544Z
LAST-MODIFIED:20250522T171143Z
UID:10061269-1789581600-1789588800@21fss.com
SUMMARY:Trivia Night
DESCRIPTION:Colorado Pizza & Sports Grill \nWeekly Prizes \nThis program is free and available to all DOD ID Cardholders.
URL:https://21fss.com/event/trivia-night/2026-09-16/
LOCATION:The Peterson Hub – Community Center\, 260 Glasgow Ave # 1013\, Peterson SFB\, CO\, 80914\, United States
CATEGORIES:Peterson Hub
ATTACH;FMTTYPE=image/png:https://21fss.com/wp-content/uploads/2024/06/TriviaNight_Hub_Web_960x540_2025_031725.png
END:VEVENT
BEGIN:VEVENT
DTSTART;TZID=America/Denver:20260923T180000
DTEND;TZID=America/Denver:20260923T200000
DTSTAMP:20260422T235735
CREATED:20240605T215544Z
LAST-MODIFIED:20250522T171143Z
UID:10061343-1790186400-1790193600@21fss.com
SUMMARY:Trivia Night
DESCRIPTION:Colorado Pizza & Sports Grill \nWeekly Prizes \nThis program is free and available to all DOD ID Cardholders.
URL:https://21fss.com/event/trivia-night/2026-09-23/
LOCATION:The Peterson Hub – Community Center\, 260 Glasgow Ave # 1013\, Peterson SFB\, CO\, 80914\, United States
CATEGORIES:Peterson Hub
ATTACH;FMTTYPE=image/png:https://21fss.com/wp-content/uploads/2024/06/TriviaNight_Hub_Web_960x540_2025_031725.png
END:VEVENT
BEGIN:VEVENT
DTSTART;TZID=America/Denver:20260930T180000
DTEND;TZID=America/Denver:20260930T200000
DTSTAMP:20260422T235735
CREATED:20240605T215544Z
LAST-MODIFIED:20250522T171143Z
UID:10061514-1790791200-1790798400@21fss.com
SUMMARY:Trivia Night
DESCRIPTION:Colorado Pizza & Sports Grill \nWeekly Prizes \nThis program is free and available to all DOD ID Cardholders.
URL:https://21fss.com/event/trivia-night/2026-09-30/
LOCATION:The Peterson Hub – Community Center\, 260 Glasgow Ave # 1013\, Peterson SFB\, CO\, 80914\, United States
CATEGORIES:Peterson Hub
ATTACH;FMTTYPE=image/png:https://21fss.com/wp-content/uploads/2024/06/TriviaNight_Hub_Web_960x540_2025_031725.png
END:VEVENT
BEGIN:VEVENT
DTSTART;TZID=America/Denver:20261007T180000
DTEND;TZID=America/Denver:20261007T200000
DTSTAMP:20260422T235735
CREATED:20240605T215544Z
LAST-MODIFIED:20250522T171143Z
UID:10061634-1791396000-1791403200@21fss.com
SUMMARY:Trivia Night
DESCRIPTION:Colorado Pizza & Sports Grill \nWeekly Prizes \nThis program is free and available to all DOD ID Cardholders.
URL:https://21fss.com/event/trivia-night/2026-10-07/
LOCATION:The Peterson Hub – Community Center\, 260 Glasgow Ave # 1013\, Peterson SFB\, CO\, 80914\, United States
CATEGORIES:Peterson Hub
ATTACH;FMTTYPE=image/png:https://21fss.com/wp-content/uploads/2024/06/TriviaNight_Hub_Web_960x540_2025_031725.png
END:VEVENT
BEGIN:VEVENT
DTSTART;TZID=America/Denver:20261014T180000
DTEND;TZID=America/Denver:20261014T200000
DTSTAMP:20260422T235735
CREATED:20240605T215544Z
LAST-MODIFIED:20250522T171143Z
UID:10061681-1792000800-1792008000@21fss.com
SUMMARY:Trivia Night
DESCRIPTION:Colorado Pizza & Sports Grill \nWeekly Prizes \nThis program is free and available to all DOD ID Cardholders.
URL:https://21fss.com/event/trivia-night/2026-10-14/
LOCATION:The Peterson Hub – Community Center\, 260 Glasgow Ave # 1013\, Peterson SFB\, CO\, 80914\, United States
CATEGORIES:Peterson Hub
ATTACH;FMTTYPE=image/png:https://21fss.com/wp-content/uploads/2024/06/TriviaNight_Hub_Web_960x540_2025_031725.png
END:VEVENT
BEGIN:VEVENT
DTSTART;TZID=America/Denver:20261021T180000
DTEND;TZID=America/Denver:20261021T200000
DTSTAMP:20260422T235735
CREATED:20240605T215544Z
LAST-MODIFIED:20250522T171143Z
UID:10061723-1792605600-1792612800@21fss.com
SUMMARY:Trivia Night
DESCRIPTION:Colorado Pizza & Sports Grill \nWeekly Prizes \nThis program is free and available to all DOD ID Cardholders.
URL:https://21fss.com/event/trivia-night/2026-10-21/
LOCATION:The Peterson Hub – Community Center\, 260 Glasgow Ave # 1013\, Peterson SFB\, CO\, 80914\, United States
CATEGORIES:Peterson Hub
ATTACH;FMTTYPE=image/png:https://21fss.com/wp-content/uploads/2024/06/TriviaNight_Hub_Web_960x540_2025_031725.png
END:VEVENT
BEGIN:VEVENT
DTSTART;TZID=America/Denver:20261028T180000
DTEND;TZID=America/Denver:20261028T200000
DTSTAMP:20260422T235735
CREATED:20240605T215544Z
LAST-MODIFIED:20250522T171143Z
UID:10061847-1793210400-1793217600@21fss.com
SUMMARY:Trivia Night
DESCRIPTION:Colorado Pizza & Sports Grill \nWeekly Prizes \nThis program is free and available to all DOD ID Cardholders.
URL:https://21fss.com/event/trivia-night/2026-10-28/
LOCATION:The Peterson Hub – Community Center\, 260 Glasgow Ave # 1013\, Peterson SFB\, CO\, 80914\, United States
CATEGORIES:Peterson Hub
ATTACH;FMTTYPE=image/png:https://21fss.com/wp-content/uploads/2024/06/TriviaNight_Hub_Web_960x540_2025_031725.png
END:VEVENT
BEGIN:VEVENT
DTSTART;TZID=America/Denver:20261104T180000
DTEND;TZID=America/Denver:20261104T200000
DTSTAMP:20260422T235735
CREATED:20240605T215544Z
LAST-MODIFIED:20250522T171143Z
UID:10061889-1793815200-1793822400@21fss.com
SUMMARY:Trivia Night
DESCRIPTION:Colorado Pizza & Sports Grill \nWeekly Prizes \nThis program is free and available to all DOD ID Cardholders.
URL:https://21fss.com/event/trivia-night/2026-11-04/
LOCATION:The Peterson Hub – Community Center\, 260 Glasgow Ave # 1013\, Peterson SFB\, CO\, 80914\, United States
CATEGORIES:Peterson Hub
ATTACH;FMTTYPE=image/png:https://21fss.com/wp-content/uploads/2024/06/TriviaNight_Hub_Web_960x540_2025_031725.png
END:VEVENT
BEGIN:VEVENT
DTSTART;TZID=America/Denver:20261111T180000
DTEND;TZID=America/Denver:20261111T200000
DTSTAMP:20260422T235735
CREATED:20240605T215544Z
LAST-MODIFIED:20250522T171143Z
UID:10061934-1794420000-1794427200@21fss.com
SUMMARY:Trivia Night
DESCRIPTION:Colorado Pizza & Sports Grill \nWeekly Prizes \nThis program is free and available to all DOD ID Cardholders.
URL:https://21fss.com/event/trivia-night/2026-11-11/
LOCATION:The Peterson Hub – Community Center\, 260 Glasgow Ave # 1013\, Peterson SFB\, CO\, 80914\, United States
CATEGORIES:Peterson Hub
ATTACH;FMTTYPE=image/png:https://21fss.com/wp-content/uploads/2024/06/TriviaNight_Hub_Web_960x540_2025_031725.png
END:VEVENT
BEGIN:VEVENT
DTSTART;TZID=America/Denver:20261118T180000
DTEND;TZID=America/Denver:20261118T200000
DTSTAMP:20260422T235735
CREATED:20240605T215544Z
LAST-MODIFIED:20250522T171143Z
UID:10061992-1795024800-1795032000@21fss.com
SUMMARY:Trivia Night
DESCRIPTION:Colorado Pizza & Sports Grill \nWeekly Prizes \nThis program is free and available to all DOD ID Cardholders.
URL:https://21fss.com/event/trivia-night/2026-11-18/
LOCATION:The Peterson Hub – Community Center\, 260 Glasgow Ave # 1013\, Peterson SFB\, CO\, 80914\, United States
CATEGORIES:Peterson Hub
ATTACH;FMTTYPE=image/png:https://21fss.com/wp-content/uploads/2024/06/TriviaNight_Hub_Web_960x540_2025_031725.png
END:VEVENT
END:VCALENDAR