BEGIN:VCALENDAR
VERSION:2.0
PRODID:-//Peterson Space Force Base - ECPv6.15.20//NONSGML v1.0//EN
CALSCALE:GREGORIAN
METHOD:PUBLISH
X-WR-CALNAME:Peterson Space Force Base
X-ORIGINAL-URL:https://21fss.com
X-WR-CALDESC:Events for Peterson Space Force Base
REFRESH-INTERVAL;VALUE=DURATION:PT1H
X-Robots-Tag:noindex
X-PUBLISHED-TTL:PT1H
BEGIN:VTIMEZONE
TZID:America/Denver
BEGIN:DAYLIGHT
TZOFFSETFROM:-0700
TZOFFSETTO:-0600
TZNAME:MDT
DTSTART:20250309T090000
END:DAYLIGHT
BEGIN:STANDARD
TZOFFSETFROM:-0600
TZOFFSETTO:-0700
TZNAME:MST
DTSTART:20251102T080000
END:STANDARD
BEGIN:DAYLIGHT
TZOFFSETFROM:-0700
TZOFFSETTO:-0600
TZNAME:MDT
DTSTART:20260308T090000
END:DAYLIGHT
BEGIN:STANDARD
TZOFFSETFROM:-0600
TZOFFSETTO:-0700
TZNAME:MST
DTSTART:20261101T080000
END:STANDARD
BEGIN:DAYLIGHT
TZOFFSETFROM:-0700
TZOFFSETTO:-0600
TZNAME:MDT
DTSTART:20270314T090000
END:DAYLIGHT
BEGIN:STANDARD
TZOFFSETFROM:-0600
TZOFFSETTO:-0700
TZNAME:MST
DTSTART:20271107T080000
END:STANDARD
END:VTIMEZONE
BEGIN:VEVENT
DTSTART;TZID=America/Denver:20260422T100000
DTEND;TZID=America/Denver:20260422T130000
DTSTAMP:20260422T080915
CREATED:20250205T221238Z
LAST-MODIFIED:20250205T221238Z
UID:10052000-1776852000-1776862800@21fss.com
SUMMARY:Family Swim - Shallow End
DESCRIPTION:Active Duty: $2.00\nAdults: $5.00\nChildren: $4.00
URL:https://21fss.com/event/family-swim-shallow-end-6/2026-04-22/
LOCATION:Peterson Aquatics Center\, Peterson SFB\, 80914
CATEGORIES:Aqua Hours
ORGANIZER;CN="Peterson Aquatic Center":MAILTO:21fss.aquatics.center@us.af.mil
END:VEVENT
BEGIN:VEVENT
DTSTART;TZID=America/Denver:20260423T140000
DTEND;TZID=America/Denver:20260423T180000
DTSTAMP:20260422T080915
CREATED:20250205T221352Z
LAST-MODIFIED:20250205T221352Z
UID:10052510-1776952800-1776967200@21fss.com
SUMMARY:Family Swim - Shallow End
DESCRIPTION:Active Duty: $2.00\nAdults: $5.00\nChildren: $4.00
URL:https://21fss.com/event/family-swim-shallow-end-7/2026-04-23/
LOCATION:Peterson Aquatics Center\, Peterson SFB\, 80914
CATEGORIES:Aqua Hours
ORGANIZER;CN="Peterson Aquatic Center":MAILTO:21fss.aquatics.center@us.af.mil
END:VEVENT
BEGIN:VEVENT
DTSTART;TZID=America/Denver:20260429T100000
DTEND;TZID=America/Denver:20260429T130000
DTSTAMP:20260422T080915
CREATED:20250205T221238Z
LAST-MODIFIED:20250205T221238Z
UID:10052001-1777456800-1777467600@21fss.com
SUMMARY:Family Swim - Shallow End
DESCRIPTION:Active Duty: $2.00\nAdults: $5.00\nChildren: $4.00
URL:https://21fss.com/event/family-swim-shallow-end-6/2026-04-29/
LOCATION:Peterson Aquatics Center\, Peterson SFB\, 80914
CATEGORIES:Aqua Hours
ORGANIZER;CN="Peterson Aquatic Center":MAILTO:21fss.aquatics.center@us.af.mil
END:VEVENT
BEGIN:VEVENT
DTSTART;TZID=America/Denver:20260430T140000
DTEND;TZID=America/Denver:20260430T180000
DTSTAMP:20260422T080915
CREATED:20250205T221352Z
LAST-MODIFIED:20250205T221352Z
UID:10052511-1777557600-1777572000@21fss.com
SUMMARY:Family Swim - Shallow End
DESCRIPTION:Active Duty: $2.00\nAdults: $5.00\nChildren: $4.00
URL:https://21fss.com/event/family-swim-shallow-end-7/2026-04-30/
LOCATION:Peterson Aquatics Center\, Peterson SFB\, 80914
CATEGORIES:Aqua Hours
ORGANIZER;CN="Peterson Aquatic Center":MAILTO:21fss.aquatics.center@us.af.mil
END:VEVENT
BEGIN:VEVENT
DTSTART;TZID=America/Denver:20260506T100000
DTEND;TZID=America/Denver:20260506T130000
DTSTAMP:20260422T080915
CREATED:20250205T221238Z
LAST-MODIFIED:20250205T221238Z
UID:10052002-1778061600-1778072400@21fss.com
SUMMARY:Family Swim - Shallow End
DESCRIPTION:Active Duty: $2.00\nAdults: $5.00\nChildren: $4.00
URL:https://21fss.com/event/family-swim-shallow-end-6/2026-05-06/
LOCATION:Peterson Aquatics Center\, Peterson SFB\, 80914
CATEGORIES:Aqua Hours
ORGANIZER;CN="Peterson Aquatic Center":MAILTO:21fss.aquatics.center@us.af.mil
END:VEVENT
BEGIN:VEVENT
DTSTART;TZID=America/Denver:20260507T140000
DTEND;TZID=America/Denver:20260507T180000
DTSTAMP:20260422T080915
CREATED:20250205T221352Z
LAST-MODIFIED:20250205T221352Z
UID:10052512-1778162400-1778176800@21fss.com
SUMMARY:Family Swim - Shallow End
DESCRIPTION:Active Duty: $2.00\nAdults: $5.00\nChildren: $4.00
URL:https://21fss.com/event/family-swim-shallow-end-7/2026-05-07/
LOCATION:Peterson Aquatics Center\, Peterson SFB\, 80914
CATEGORIES:Aqua Hours
ORGANIZER;CN="Peterson Aquatic Center":MAILTO:21fss.aquatics.center@us.af.mil
END:VEVENT
BEGIN:VEVENT
DTSTART;TZID=America/Denver:20260513T100000
DTEND;TZID=America/Denver:20260513T130000
DTSTAMP:20260422T080915
CREATED:20250205T221238Z
LAST-MODIFIED:20250205T221238Z
UID:10052003-1778666400-1778677200@21fss.com
SUMMARY:Family Swim - Shallow End
DESCRIPTION:Active Duty: $2.00\nAdults: $5.00\nChildren: $4.00
URL:https://21fss.com/event/family-swim-shallow-end-6/2026-05-13/
LOCATION:Peterson Aquatics Center\, Peterson SFB\, 80914
CATEGORIES:Aqua Hours
ORGANIZER;CN="Peterson Aquatic Center":MAILTO:21fss.aquatics.center@us.af.mil
END:VEVENT
BEGIN:VEVENT
DTSTART;TZID=America/Denver:20260514T140000
DTEND;TZID=America/Denver:20260514T180000
DTSTAMP:20260422T080915
CREATED:20250205T221352Z
LAST-MODIFIED:20250205T221352Z
UID:10060652-1778767200-1778781600@21fss.com
SUMMARY:Family Swim - Shallow End
DESCRIPTION:Active Duty: $2.00\nAdults: $5.00\nChildren: $4.00
URL:https://21fss.com/event/family-swim-shallow-end-7/2026-05-14/
LOCATION:Peterson Aquatics Center\, Peterson SFB\, 80914
CATEGORIES:Aqua Hours
ORGANIZER;CN="Peterson Aquatic Center":MAILTO:21fss.aquatics.center@us.af.mil
END:VEVENT
BEGIN:VEVENT
DTSTART;TZID=America/Denver:20260520T100000
DTEND;TZID=America/Denver:20260520T130000
DTSTAMP:20260422T080915
CREATED:20250205T221238Z
LAST-MODIFIED:20250205T221238Z
UID:10052004-1779271200-1779282000@21fss.com
SUMMARY:Family Swim - Shallow End
DESCRIPTION:Active Duty: $2.00\nAdults: $5.00\nChildren: $4.00
URL:https://21fss.com/event/family-swim-shallow-end-6/2026-05-20/
LOCATION:Peterson Aquatics Center\, Peterson SFB\, 80914
CATEGORIES:Aqua Hours
ORGANIZER;CN="Peterson Aquatic Center":MAILTO:21fss.aquatics.center@us.af.mil
END:VEVENT
BEGIN:VEVENT
DTSTART;TZID=America/Denver:20260521T140000
DTEND;TZID=America/Denver:20260521T180000
DTSTAMP:20260422T080915
CREATED:20250205T221352Z
LAST-MODIFIED:20250205T221352Z
UID:10060653-1779372000-1779386400@21fss.com
SUMMARY:Family Swim - Shallow End
DESCRIPTION:Active Duty: $2.00\nAdults: $5.00\nChildren: $4.00
URL:https://21fss.com/event/family-swim-shallow-end-7/2026-05-21/
LOCATION:Peterson Aquatics Center\, Peterson SFB\, 80914
CATEGORIES:Aqua Hours
ORGANIZER;CN="Peterson Aquatic Center":MAILTO:21fss.aquatics.center@us.af.mil
END:VEVENT
BEGIN:VEVENT
DTSTART;TZID=America/Denver:20260527T100000
DTEND;TZID=America/Denver:20260527T130000
DTSTAMP:20260422T080915
CREATED:20250205T221238Z
LAST-MODIFIED:20250205T221238Z
UID:10052005-1779876000-1779886800@21fss.com
SUMMARY:Family Swim - Shallow End
DESCRIPTION:Active Duty: $2.00\nAdults: $5.00\nChildren: $4.00
URL:https://21fss.com/event/family-swim-shallow-end-6/2026-05-27/
LOCATION:Peterson Aquatics Center\, Peterson SFB\, 80914
CATEGORIES:Aqua Hours
ORGANIZER;CN="Peterson Aquatic Center":MAILTO:21fss.aquatics.center@us.af.mil
END:VEVENT
BEGIN:VEVENT
DTSTART;TZID=America/Denver:20260528T140000
DTEND;TZID=America/Denver:20260528T180000
DTSTAMP:20260422T080915
CREATED:20250205T221352Z
LAST-MODIFIED:20250205T221352Z
UID:10060654-1779976800-1779991200@21fss.com
SUMMARY:Family Swim - Shallow End
DESCRIPTION:Active Duty: $2.00\nAdults: $5.00\nChildren: $4.00
URL:https://21fss.com/event/family-swim-shallow-end-7/2026-05-28/
LOCATION:Peterson Aquatics Center\, Peterson SFB\, 80914
CATEGORIES:Aqua Hours
ORGANIZER;CN="Peterson Aquatic Center":MAILTO:21fss.aquatics.center@us.af.mil
END:VEVENT
BEGIN:VEVENT
DTSTART;TZID=America/Denver:20260603T100000
DTEND;TZID=America/Denver:20260603T130000
DTSTAMP:20260422T080915
CREATED:20250205T221238Z
LAST-MODIFIED:20250205T221238Z
UID:10052006-1780480800-1780491600@21fss.com
SUMMARY:Family Swim - Shallow End
DESCRIPTION:Active Duty: $2.00\nAdults: $5.00\nChildren: $4.00
URL:https://21fss.com/event/family-swim-shallow-end-6/2026-06-03/
LOCATION:Peterson Aquatics Center\, Peterson SFB\, 80914
CATEGORIES:Aqua Hours
ORGANIZER;CN="Peterson Aquatic Center":MAILTO:21fss.aquatics.center@us.af.mil
END:VEVENT
BEGIN:VEVENT
DTSTART;TZID=America/Denver:20260604T140000
DTEND;TZID=America/Denver:20260604T180000
DTSTAMP:20260422T080915
CREATED:20250205T221352Z
LAST-MODIFIED:20250205T221352Z
UID:10060655-1780581600-1780596000@21fss.com
SUMMARY:Family Swim - Shallow End
DESCRIPTION:Active Duty: $2.00\nAdults: $5.00\nChildren: $4.00
URL:https://21fss.com/event/family-swim-shallow-end-7/2026-06-04/
LOCATION:Peterson Aquatics Center\, Peterson SFB\, 80914
CATEGORIES:Aqua Hours
ORGANIZER;CN="Peterson Aquatic Center":MAILTO:21fss.aquatics.center@us.af.mil
END:VEVENT
BEGIN:VEVENT
DTSTART;TZID=America/Denver:20260610T100000
DTEND;TZID=America/Denver:20260610T130000
DTSTAMP:20260422T080915
CREATED:20250205T221238Z
LAST-MODIFIED:20250205T221238Z
UID:10052007-1781085600-1781096400@21fss.com
SUMMARY:Family Swim - Shallow End
DESCRIPTION:Active Duty: $2.00\nAdults: $5.00\nChildren: $4.00
URL:https://21fss.com/event/family-swim-shallow-end-6/2026-06-10/
LOCATION:Peterson Aquatics Center\, Peterson SFB\, 80914
CATEGORIES:Aqua Hours
ORGANIZER;CN="Peterson Aquatic Center":MAILTO:21fss.aquatics.center@us.af.mil
END:VEVENT
BEGIN:VEVENT
DTSTART;TZID=America/Denver:20260611T140000
DTEND;TZID=America/Denver:20260611T180000
DTSTAMP:20260422T080915
CREATED:20250205T221352Z
LAST-MODIFIED:20250205T221352Z
UID:10060656-1781186400-1781200800@21fss.com
SUMMARY:Family Swim - Shallow End
DESCRIPTION:Active Duty: $2.00\nAdults: $5.00\nChildren: $4.00
URL:https://21fss.com/event/family-swim-shallow-end-7/2026-06-11/
LOCATION:Peterson Aquatics Center\, Peterson SFB\, 80914
CATEGORIES:Aqua Hours
ORGANIZER;CN="Peterson Aquatic Center":MAILTO:21fss.aquatics.center@us.af.mil
END:VEVENT
BEGIN:VEVENT
DTSTART;TZID=America/Denver:20260617T100000
DTEND;TZID=America/Denver:20260617T130000
DTSTAMP:20260422T080915
CREATED:20250205T221238Z
LAST-MODIFIED:20250205T221238Z
UID:10052008-1781690400-1781701200@21fss.com
SUMMARY:Family Swim - Shallow End
DESCRIPTION:Active Duty: $2.00\nAdults: $5.00\nChildren: $4.00
URL:https://21fss.com/event/family-swim-shallow-end-6/2026-06-17/
LOCATION:Peterson Aquatics Center\, Peterson SFB\, 80914
CATEGORIES:Aqua Hours
ORGANIZER;CN="Peterson Aquatic Center":MAILTO:21fss.aquatics.center@us.af.mil
END:VEVENT
BEGIN:VEVENT
DTSTART;TZID=America/Denver:20260618T140000
DTEND;TZID=America/Denver:20260618T180000
DTSTAMP:20260422T080915
CREATED:20250205T221352Z
LAST-MODIFIED:20250205T221352Z
UID:10060657-1781791200-1781805600@21fss.com
SUMMARY:Family Swim - Shallow End
DESCRIPTION:Active Duty: $2.00\nAdults: $5.00\nChildren: $4.00
URL:https://21fss.com/event/family-swim-shallow-end-7/2026-06-18/
LOCATION:Peterson Aquatics Center\, Peterson SFB\, 80914
CATEGORIES:Aqua Hours
ORGANIZER;CN="Peterson Aquatic Center":MAILTO:21fss.aquatics.center@us.af.mil
END:VEVENT
BEGIN:VEVENT
DTSTART;TZID=America/Denver:20260624T100000
DTEND;TZID=America/Denver:20260624T130000
DTSTAMP:20260422T080915
CREATED:20250205T221238Z
LAST-MODIFIED:20250205T221238Z
UID:10052009-1782295200-1782306000@21fss.com
SUMMARY:Family Swim - Shallow End
DESCRIPTION:Active Duty: $2.00\nAdults: $5.00\nChildren: $4.00
URL:https://21fss.com/event/family-swim-shallow-end-6/2026-06-24/
LOCATION:Peterson Aquatics Center\, Peterson SFB\, 80914
CATEGORIES:Aqua Hours
ORGANIZER;CN="Peterson Aquatic Center":MAILTO:21fss.aquatics.center@us.af.mil
END:VEVENT
BEGIN:VEVENT
DTSTART;TZID=America/Denver:20260625T140000
DTEND;TZID=America/Denver:20260625T180000
DTSTAMP:20260422T080915
CREATED:20250205T221352Z
LAST-MODIFIED:20250205T221352Z
UID:10060658-1782396000-1782410400@21fss.com
SUMMARY:Family Swim - Shallow End
DESCRIPTION:Active Duty: $2.00\nAdults: $5.00\nChildren: $4.00
URL:https://21fss.com/event/family-swim-shallow-end-7/2026-06-25/
LOCATION:Peterson Aquatics Center\, Peterson SFB\, 80914
CATEGORIES:Aqua Hours
ORGANIZER;CN="Peterson Aquatic Center":MAILTO:21fss.aquatics.center@us.af.mil
END:VEVENT
BEGIN:VEVENT
DTSTART;TZID=America/Denver:20260701T100000
DTEND;TZID=America/Denver:20260701T130000
DTSTAMP:20260422T080915
CREATED:20250205T221238Z
LAST-MODIFIED:20250205T221238Z
UID:10052010-1782900000-1782910800@21fss.com
SUMMARY:Family Swim - Shallow End
DESCRIPTION:Active Duty: $2.00\nAdults: $5.00\nChildren: $4.00
URL:https://21fss.com/event/family-swim-shallow-end-6/2026-07-01/
LOCATION:Peterson Aquatics Center\, Peterson SFB\, 80914
CATEGORIES:Aqua Hours
ORGANIZER;CN="Peterson Aquatic Center":MAILTO:21fss.aquatics.center@us.af.mil
END:VEVENT
BEGIN:VEVENT
DTSTART;TZID=America/Denver:20260702T140000
DTEND;TZID=America/Denver:20260702T180000
DTSTAMP:20260422T080915
CREATED:20250205T221352Z
LAST-MODIFIED:20250205T221352Z
UID:10060659-1783000800-1783015200@21fss.com
SUMMARY:Family Swim - Shallow End
DESCRIPTION:Active Duty: $2.00\nAdults: $5.00\nChildren: $4.00
URL:https://21fss.com/event/family-swim-shallow-end-7/2026-07-02/
LOCATION:Peterson Aquatics Center\, Peterson SFB\, 80914
CATEGORIES:Aqua Hours
ORGANIZER;CN="Peterson Aquatic Center":MAILTO:21fss.aquatics.center@us.af.mil
END:VEVENT
BEGIN:VEVENT
DTSTART;TZID=America/Denver:20260708T100000
DTEND;TZID=America/Denver:20260708T130000
DTSTAMP:20260422T080915
CREATED:20250205T221238Z
LAST-MODIFIED:20250205T221238Z
UID:10052011-1783504800-1783515600@21fss.com
SUMMARY:Family Swim - Shallow End
DESCRIPTION:Active Duty: $2.00\nAdults: $5.00\nChildren: $4.00
URL:https://21fss.com/event/family-swim-shallow-end-6/2026-07-08/
LOCATION:Peterson Aquatics Center\, Peterson SFB\, 80914
CATEGORIES:Aqua Hours
ORGANIZER;CN="Peterson Aquatic Center":MAILTO:21fss.aquatics.center@us.af.mil
END:VEVENT
BEGIN:VEVENT
DTSTART;TZID=America/Denver:20260709T140000
DTEND;TZID=America/Denver:20260709T180000
DTSTAMP:20260422T080915
CREATED:20250205T221352Z
LAST-MODIFIED:20250205T221352Z
UID:10060660-1783605600-1783620000@21fss.com
SUMMARY:Family Swim - Shallow End
DESCRIPTION:Active Duty: $2.00\nAdults: $5.00\nChildren: $4.00
URL:https://21fss.com/event/family-swim-shallow-end-7/2026-07-09/
LOCATION:Peterson Aquatics Center\, Peterson SFB\, 80914
CATEGORIES:Aqua Hours
ORGANIZER;CN="Peterson Aquatic Center":MAILTO:21fss.aquatics.center@us.af.mil
END:VEVENT
BEGIN:VEVENT
DTSTART;TZID=America/Denver:20260715T100000
DTEND;TZID=America/Denver:20260715T130000
DTSTAMP:20260422T080915
CREATED:20250205T221238Z
LAST-MODIFIED:20250205T221238Z
UID:10052012-1784109600-1784120400@21fss.com
SUMMARY:Family Swim - Shallow End
DESCRIPTION:Active Duty: $2.00\nAdults: $5.00\nChildren: $4.00
URL:https://21fss.com/event/family-swim-shallow-end-6/2026-07-15/
LOCATION:Peterson Aquatics Center\, Peterson SFB\, 80914
CATEGORIES:Aqua Hours
ORGANIZER;CN="Peterson Aquatic Center":MAILTO:21fss.aquatics.center@us.af.mil
END:VEVENT
BEGIN:VEVENT
DTSTART;TZID=America/Denver:20260716T140000
DTEND;TZID=America/Denver:20260716T180000
DTSTAMP:20260422T080915
CREATED:20250205T221352Z
LAST-MODIFIED:20250205T221352Z
UID:10060661-1784210400-1784224800@21fss.com
SUMMARY:Family Swim - Shallow End
DESCRIPTION:Active Duty: $2.00\nAdults: $5.00\nChildren: $4.00
URL:https://21fss.com/event/family-swim-shallow-end-7/2026-07-16/
LOCATION:Peterson Aquatics Center\, Peterson SFB\, 80914
CATEGORIES:Aqua Hours
ORGANIZER;CN="Peterson Aquatic Center":MAILTO:21fss.aquatics.center@us.af.mil
END:VEVENT
BEGIN:VEVENT
DTSTART;TZID=America/Denver:20260722T100000
DTEND;TZID=America/Denver:20260722T130000
DTSTAMP:20260422T080915
CREATED:20250205T221238Z
LAST-MODIFIED:20250205T221238Z
UID:10052013-1784714400-1784725200@21fss.com
SUMMARY:Family Swim - Shallow End
DESCRIPTION:Active Duty: $2.00\nAdults: $5.00\nChildren: $4.00
URL:https://21fss.com/event/family-swim-shallow-end-6/2026-07-22/
LOCATION:Peterson Aquatics Center\, Peterson SFB\, 80914
CATEGORIES:Aqua Hours
ORGANIZER;CN="Peterson Aquatic Center":MAILTO:21fss.aquatics.center@us.af.mil
END:VEVENT
BEGIN:VEVENT
DTSTART;TZID=America/Denver:20260723T140000
DTEND;TZID=America/Denver:20260723T180000
DTSTAMP:20260422T080915
CREATED:20250205T221352Z
LAST-MODIFIED:20250205T221352Z
UID:10060662-1784815200-1784829600@21fss.com
SUMMARY:Family Swim - Shallow End
DESCRIPTION:Active Duty: $2.00\nAdults: $5.00\nChildren: $4.00
URL:https://21fss.com/event/family-swim-shallow-end-7/2026-07-23/
LOCATION:Peterson Aquatics Center\, Peterson SFB\, 80914
CATEGORIES:Aqua Hours
ORGANIZER;CN="Peterson Aquatic Center":MAILTO:21fss.aquatics.center@us.af.mil
END:VEVENT
BEGIN:VEVENT
DTSTART;TZID=America/Denver:20260729T100000
DTEND;TZID=America/Denver:20260729T130000
DTSTAMP:20260422T080915
CREATED:20250205T221238Z
LAST-MODIFIED:20250205T221238Z
UID:10052014-1785319200-1785330000@21fss.com
SUMMARY:Family Swim - Shallow End
DESCRIPTION:Active Duty: $2.00\nAdults: $5.00\nChildren: $4.00
URL:https://21fss.com/event/family-swim-shallow-end-6/2026-07-29/
LOCATION:Peterson Aquatics Center\, Peterson SFB\, 80914
CATEGORIES:Aqua Hours
ORGANIZER;CN="Peterson Aquatic Center":MAILTO:21fss.aquatics.center@us.af.mil
END:VEVENT
BEGIN:VEVENT
DTSTART;TZID=America/Denver:20260730T140000
DTEND;TZID=America/Denver:20260730T180000
DTSTAMP:20260422T080915
CREATED:20250205T221352Z
LAST-MODIFIED:20250205T221352Z
UID:10060663-1785420000-1785434400@21fss.com
SUMMARY:Family Swim - Shallow End
DESCRIPTION:Active Duty: $2.00\nAdults: $5.00\nChildren: $4.00
URL:https://21fss.com/event/family-swim-shallow-end-7/2026-07-30/
LOCATION:Peterson Aquatics Center\, Peterson SFB\, 80914
CATEGORIES:Aqua Hours
ORGANIZER;CN="Peterson Aquatic Center":MAILTO:21fss.aquatics.center@us.af.mil
END:VEVENT
END:VCALENDAR