BEGIN:VCALENDAR
VERSION:2.0
PRODID:-//Peterson Space Force Base - ECPv6.15.20//NONSGML v1.0//EN
CALSCALE:GREGORIAN
METHOD:PUBLISH
X-WR-CALNAME:Peterson Space Force Base
X-ORIGINAL-URL:https://21fss.com
X-WR-CALDESC:Events for Peterson Space Force Base
REFRESH-INTERVAL;VALUE=DURATION:PT1H
X-Robots-Tag:noindex
X-PUBLISHED-TTL:PT1H
BEGIN:VTIMEZONE
TZID:America/Denver
BEGIN:DAYLIGHT
TZOFFSETFROM:-0700
TZOFFSETTO:-0600
TZNAME:MDT
DTSTART:20250309T090000
END:DAYLIGHT
BEGIN:STANDARD
TZOFFSETFROM:-0600
TZOFFSETTO:-0700
TZNAME:MST
DTSTART:20251102T080000
END:STANDARD
BEGIN:DAYLIGHT
TZOFFSETFROM:-0700
TZOFFSETTO:-0600
TZNAME:MDT
DTSTART:20260308T090000
END:DAYLIGHT
BEGIN:STANDARD
TZOFFSETFROM:-0600
TZOFFSETTO:-0700
TZNAME:MST
DTSTART:20261101T080000
END:STANDARD
BEGIN:DAYLIGHT
TZOFFSETFROM:-0700
TZOFFSETTO:-0600
TZNAME:MDT
DTSTART:20270314T090000
END:DAYLIGHT
BEGIN:STANDARD
TZOFFSETFROM:-0600
TZOFFSETTO:-0700
TZNAME:MST
DTSTART:20271107T080000
END:STANDARD
END:VTIMEZONE
BEGIN:VEVENT
DTSTART;TZID=America/Denver:20260521T170000
DTEND;TZID=America/Denver:20260521T210000
DTSTAMP:20260423T231900
CREATED:20251114T181034Z
LAST-MODIFIED:20260219T233929Z
UID:10063045-1779382800-1779397200@21fss.com
SUMMARY:Nerd Night
DESCRIPTION:In an exciting partnership with Air Force and Space Force Gaming\, The HUB is thrilled to announce the hosting of four engaging “Nerd Night” events in 2026. These special gatherings are designed to bring together the vibrant gaming community at Peterson Air Force Base\, providing a platform to celebrate the diverse and dynamic world of gaming. Attendees can look forward to various activities\, including tournaments\, discussions on the latest game releases\, and opportunities to connect with fellow gamers who share their passion. Join us for these festive nights of fun\, competition\, and community spirit! \nEach Nerd Night event will include a 1v1 Call of Duty: Black Ops 6 tournament and a Super Smash Bros. Ultimate tournament. The first and second-place winners will receive prizes.
URL:https://21fss.com/event/nerd-night-3-2/2026-05-21/
LOCATION:The Peterson Hub – Community Center\, 260 Glasgow Ave # 1013\, Peterson SFB\, CO\, 80914\, United States
CATEGORIES:Fun,Hot Events,Peterson Hub
ATTACH;FMTTYPE=image/png:https://21fss.com/wp-content/uploads/2024/12/NerdNight.2025_Hub_Web-Event_960x540_02.11.15.png
END:VEVENT
BEGIN:VEVENT
DTSTART;TZID=America/Denver:20260826T170000
DTEND;TZID=America/Denver:20260826T210000
DTSTAMP:20260423T231900
CREATED:20251114T181034Z
LAST-MODIFIED:20260219T233929Z
UID:10063046-1787763600-1787778000@21fss.com
SUMMARY:Nerd Night
DESCRIPTION:In an exciting partnership with Air Force and Space Force Gaming\, The HUB is thrilled to announce the hosting of four engaging “Nerd Night” events in 2026. These special gatherings are designed to bring together the vibrant gaming community at Peterson Air Force Base\, providing a platform to celebrate the diverse and dynamic world of gaming. Attendees can look forward to various activities\, including tournaments\, discussions on the latest game releases\, and opportunities to connect with fellow gamers who share their passion. Join us for these festive nights of fun\, competition\, and community spirit! \nEach Nerd Night event will include a 1v1 Call of Duty: Black Ops 6 tournament and a Super Smash Bros. Ultimate tournament. The first and second-place winners will receive prizes.
URL:https://21fss.com/event/nerd-night-3-2/2026-08-26/
LOCATION:The Peterson Hub – Community Center\, 260 Glasgow Ave # 1013\, Peterson SFB\, CO\, 80914\, United States
CATEGORIES:Fun,Hot Events,Peterson Hub
ATTACH;FMTTYPE=image/png:https://21fss.com/wp-content/uploads/2024/12/NerdNight.2025_Hub_Web-Event_960x540_02.11.15.png
END:VEVENT
END:VCALENDAR