BEGIN:VCALENDAR
VERSION:2.0
PRODID:-//Peterson Space Force Base - ECPv6.15.20//NONSGML v1.0//EN
CALSCALE:GREGORIAN
METHOD:PUBLISH
X-WR-CALNAME:Peterson Space Force Base
X-ORIGINAL-URL:https://21fss.com
X-WR-CALDESC:Events for Peterson Space Force Base
REFRESH-INTERVAL;VALUE=DURATION:PT1H
X-Robots-Tag:noindex
X-PUBLISHED-TTL:PT1H
BEGIN:VTIMEZONE
TZID:America/Denver
BEGIN:DAYLIGHT
TZOFFSETFROM:-0700
TZOFFSETTO:-0600
TZNAME:MDT
DTSTART:20250309T090000
END:DAYLIGHT
BEGIN:STANDARD
TZOFFSETFROM:-0600
TZOFFSETTO:-0700
TZNAME:MST
DTSTART:20251102T080000
END:STANDARD
BEGIN:DAYLIGHT
TZOFFSETFROM:-0700
TZOFFSETTO:-0600
TZNAME:MDT
DTSTART:20260308T090000
END:DAYLIGHT
BEGIN:STANDARD
TZOFFSETFROM:-0600
TZOFFSETTO:-0700
TZNAME:MST
DTSTART:20261101T080000
END:STANDARD
BEGIN:DAYLIGHT
TZOFFSETFROM:-0700
TZOFFSETTO:-0600
TZNAME:MDT
DTSTART:20270314T090000
END:DAYLIGHT
BEGIN:STANDARD
TZOFFSETFROM:-0600
TZOFFSETTO:-0700
TZNAME:MST
DTSTART:20271107T080000
END:STANDARD
BEGIN:DAYLIGHT
TZOFFSETFROM:-0700
TZOFFSETTO:-0600
TZNAME:MDT
DTSTART:20280312T090000
END:DAYLIGHT
BEGIN:STANDARD
TZOFFSETFROM:-0600
TZOFFSETTO:-0700
TZNAME:MST
DTSTART:20281105T080000
END:STANDARD
END:VTIMEZONE
BEGIN:VEVENT
DTSTART;TZID=America/Denver:20260427T170000
DTEND;TZID=America/Denver:20260427T190000
DTSTAMP:20260423T110113
CREATED:20251027T192129Z
LAST-MODIFIED:20251027T192443Z
UID:10061741-1777309200-1777316400@21fss.com
SUMMARY:Peterson’s Community Art Class
DESCRIPTION:Join us the last Monday of each month\, for some fun filled creative activities at the Hub Community Center! \nFree for all ages!
URL:https://21fss.com/event/petersons-community-art-class-3/2026-04-27/
LOCATION:The Peterson Hub – Community Center\, 260 Glasgow Ave # 1013\, Peterson SFB\, CO\, 80914\, United States
CATEGORIES:Peterson Hub
ATTACH;FMTTYPE=image/png:https://21fss.com/wp-content/uploads/2024/06/ArtNight_Hub_Web-Event_960x540_06.05.24.png
END:VEVENT
BEGIN:VEVENT
DTSTART;TZID=America/Denver:20260629T170000
DTEND;TZID=America/Denver:20260629T190000
DTSTAMP:20260423T110113
CREATED:20251027T192129Z
LAST-MODIFIED:20251027T192443Z
UID:10061743-1782752400-1782759600@21fss.com
SUMMARY:Peterson’s Community Art Class
DESCRIPTION:Join us the last Monday of each month\, for some fun filled creative activities at the Hub Community Center! \nFree for all ages!
URL:https://21fss.com/event/petersons-community-art-class-3/2026-06-29/
LOCATION:The Peterson Hub – Community Center\, 260 Glasgow Ave # 1013\, Peterson SFB\, CO\, 80914\, United States
CATEGORIES:Peterson Hub
ATTACH;FMTTYPE=image/png:https://21fss.com/wp-content/uploads/2024/06/ArtNight_Hub_Web-Event_960x540_06.05.24.png
END:VEVENT
BEGIN:VEVENT
DTSTART;TZID=America/Denver:20260727T170000
DTEND;TZID=America/Denver:20260727T190000
DTSTAMP:20260423T110113
CREATED:20251027T192129Z
LAST-MODIFIED:20251027T192443Z
UID:10061744-1785171600-1785178800@21fss.com
SUMMARY:Peterson’s Community Art Class
DESCRIPTION:Join us the last Monday of each month\, for some fun filled creative activities at the Hub Community Center! \nFree for all ages!
URL:https://21fss.com/event/petersons-community-art-class-3/2026-07-27/
LOCATION:The Peterson Hub – Community Center\, 260 Glasgow Ave # 1013\, Peterson SFB\, CO\, 80914\, United States
CATEGORIES:Peterson Hub
ATTACH;FMTTYPE=image/png:https://21fss.com/wp-content/uploads/2024/06/ArtNight_Hub_Web-Event_960x540_06.05.24.png
END:VEVENT
BEGIN:VEVENT
DTSTART;TZID=America/Denver:20260831T170000
DTEND;TZID=America/Denver:20260831T190000
DTSTAMP:20260423T110113
CREATED:20251027T192129Z
LAST-MODIFIED:20251027T192443Z
UID:10061745-1788195600-1788202800@21fss.com
SUMMARY:Peterson’s Community Art Class
DESCRIPTION:Join us the last Monday of each month\, for some fun filled creative activities at the Hub Community Center! \nFree for all ages!
URL:https://21fss.com/event/petersons-community-art-class-3/2026-08-31/
LOCATION:The Peterson Hub – Community Center\, 260 Glasgow Ave # 1013\, Peterson SFB\, CO\, 80914\, United States
CATEGORIES:Peterson Hub
ATTACH;FMTTYPE=image/png:https://21fss.com/wp-content/uploads/2024/06/ArtNight_Hub_Web-Event_960x540_06.05.24.png
END:VEVENT
BEGIN:VEVENT
DTSTART;TZID=America/Denver:20260928T170000
DTEND;TZID=America/Denver:20260928T190000
DTSTAMP:20260423T110113
CREATED:20251027T192129Z
LAST-MODIFIED:20251027T192443Z
UID:10061746-1790614800-1790622000@21fss.com
SUMMARY:Peterson’s Community Art Class
DESCRIPTION:Join us the last Monday of each month\, for some fun filled creative activities at the Hub Community Center! \nFree for all ages!
URL:https://21fss.com/event/petersons-community-art-class-3/2026-09-28/
LOCATION:The Peterson Hub – Community Center\, 260 Glasgow Ave # 1013\, Peterson SFB\, CO\, 80914\, United States
CATEGORIES:Peterson Hub
ATTACH;FMTTYPE=image/png:https://21fss.com/wp-content/uploads/2024/06/ArtNight_Hub_Web-Event_960x540_06.05.24.png
END:VEVENT
BEGIN:VEVENT
DTSTART;TZID=America/Denver:20261026T170000
DTEND;TZID=America/Denver:20261026T190000
DTSTAMP:20260423T110113
CREATED:20251027T192129Z
LAST-MODIFIED:20251027T192443Z
UID:10061747-1793034000-1793041200@21fss.com
SUMMARY:Peterson’s Community Art Class
DESCRIPTION:Join us the last Monday of each month\, for some fun filled creative activities at the Hub Community Center! \nFree for all ages!
URL:https://21fss.com/event/petersons-community-art-class-3/2026-10-26/
LOCATION:The Peterson Hub – Community Center\, 260 Glasgow Ave # 1013\, Peterson SFB\, CO\, 80914\, United States
CATEGORIES:Peterson Hub
ATTACH;FMTTYPE=image/png:https://21fss.com/wp-content/uploads/2024/06/ArtNight_Hub_Web-Event_960x540_06.05.24.png
END:VEVENT
BEGIN:VEVENT
DTSTART;TZID=America/Denver:20261130T170000
DTEND;TZID=America/Denver:20261130T190000
DTSTAMP:20260423T110113
CREATED:20251027T192129Z
LAST-MODIFIED:20251027T192443Z
UID:10063067-1796058000-1796065200@21fss.com
SUMMARY:Peterson’s Community Art Class
DESCRIPTION:Join us the last Monday of each month\, for some fun filled creative activities at the Hub Community Center! \nFree for all ages!
URL:https://21fss.com/event/petersons-community-art-class-3/2026-11-30/
LOCATION:The Peterson Hub – Community Center\, 260 Glasgow Ave # 1013\, Peterson SFB\, CO\, 80914\, United States
CATEGORIES:Peterson Hub
ATTACH;FMTTYPE=image/png:https://21fss.com/wp-content/uploads/2024/06/ArtNight_Hub_Web-Event_960x540_06.05.24.png
END:VEVENT
BEGIN:VEVENT
DTSTART;TZID=America/Denver:20261228T170000
DTEND;TZID=America/Denver:20261228T190000
DTSTAMP:20260423T110113
CREATED:20251027T192129Z
LAST-MODIFIED:20251027T192443Z
UID:10063068-1798477200-1798484400@21fss.com
SUMMARY:Peterson’s Community Art Class
DESCRIPTION:Join us the last Monday of each month\, for some fun filled creative activities at the Hub Community Center! \nFree for all ages!
URL:https://21fss.com/event/petersons-community-art-class-3/2026-12-28/
LOCATION:The Peterson Hub – Community Center\, 260 Glasgow Ave # 1013\, Peterson SFB\, CO\, 80914\, United States
CATEGORIES:Peterson Hub
ATTACH;FMTTYPE=image/png:https://21fss.com/wp-content/uploads/2024/06/ArtNight_Hub_Web-Event_960x540_06.05.24.png
END:VEVENT
BEGIN:VEVENT
DTSTART;TZID=America/Denver:20270125T170000
DTEND;TZID=America/Denver:20270125T190000
DTSTAMP:20260423T110113
CREATED:20251027T192129Z
LAST-MODIFIED:20251027T192443Z
UID:10063069-1800896400-1800903600@21fss.com
SUMMARY:Peterson’s Community Art Class
DESCRIPTION:Join us the last Monday of each month\, for some fun filled creative activities at the Hub Community Center! \nFree for all ages!
URL:https://21fss.com/event/petersons-community-art-class-3/2027-01-25/
LOCATION:The Peterson Hub – Community Center\, 260 Glasgow Ave # 1013\, Peterson SFB\, CO\, 80914\, United States
CATEGORIES:Peterson Hub
ATTACH;FMTTYPE=image/png:https://21fss.com/wp-content/uploads/2024/06/ArtNight_Hub_Web-Event_960x540_06.05.24.png
END:VEVENT
BEGIN:VEVENT
DTSTART;TZID=America/Denver:20270222T170000
DTEND;TZID=America/Denver:20270222T190000
DTSTAMP:20260423T110113
CREATED:20251027T192129Z
LAST-MODIFIED:20251027T192443Z
UID:10063166-1803315600-1803322800@21fss.com
SUMMARY:Peterson’s Community Art Class
DESCRIPTION:Join us the last Monday of each month\, for some fun filled creative activities at the Hub Community Center! \nFree for all ages!
URL:https://21fss.com/event/petersons-community-art-class-3/2027-02-22/
LOCATION:The Peterson Hub – Community Center\, 260 Glasgow Ave # 1013\, Peterson SFB\, CO\, 80914\, United States
CATEGORIES:Peterson Hub
ATTACH;FMTTYPE=image/png:https://21fss.com/wp-content/uploads/2024/06/ArtNight_Hub_Web-Event_960x540_06.05.24.png
END:VEVENT
BEGIN:VEVENT
DTSTART;TZID=America/Denver:20270329T170000
DTEND;TZID=America/Denver:20270329T190000
DTSTAMP:20260423T110113
CREATED:20251027T192129Z
LAST-MODIFIED:20251027T192443Z
UID:10063639-1806339600-1806346800@21fss.com
SUMMARY:Peterson’s Community Art Class
DESCRIPTION:Join us the last Monday of each month\, for some fun filled creative activities at the Hub Community Center! \nFree for all ages!
URL:https://21fss.com/event/petersons-community-art-class-3/2027-03-29/
LOCATION:The Peterson Hub – Community Center\, 260 Glasgow Ave # 1013\, Peterson SFB\, CO\, 80914\, United States
CATEGORIES:Peterson Hub
ATTACH;FMTTYPE=image/png:https://21fss.com/wp-content/uploads/2024/06/ArtNight_Hub_Web-Event_960x540_06.05.24.png
END:VEVENT
END:VCALENDAR