BEGIN:VCALENDAR
VERSION:2.0
PRODID:-//Peterson Space Force Base - ECPv6.15.20//NONSGML v1.0//EN
CALSCALE:GREGORIAN
METHOD:PUBLISH
X-WR-CALNAME:Peterson Space Force Base
X-ORIGINAL-URL:https://21fss.com
X-WR-CALDESC:Events for Peterson Space Force Base
REFRESH-INTERVAL;VALUE=DURATION:PT1H
X-Robots-Tag:noindex
X-PUBLISHED-TTL:PT1H
BEGIN:VTIMEZONE
TZID:America/Denver
BEGIN:DAYLIGHT
TZOFFSETFROM:-0700
TZOFFSETTO:-0600
TZNAME:MDT
DTSTART:20250309T090000
END:DAYLIGHT
BEGIN:STANDARD
TZOFFSETFROM:-0600
TZOFFSETTO:-0700
TZNAME:MST
DTSTART:20251102T080000
END:STANDARD
BEGIN:DAYLIGHT
TZOFFSETFROM:-0700
TZOFFSETTO:-0600
TZNAME:MDT
DTSTART:20260308T090000
END:DAYLIGHT
BEGIN:STANDARD
TZOFFSETFROM:-0600
TZOFFSETTO:-0700
TZNAME:MST
DTSTART:20261101T080000
END:STANDARD
BEGIN:DAYLIGHT
TZOFFSETFROM:-0700
TZOFFSETTO:-0600
TZNAME:MDT
DTSTART:20270314T090000
END:DAYLIGHT
BEGIN:STANDARD
TZOFFSETFROM:-0600
TZOFFSETTO:-0700
TZNAME:MST
DTSTART:20271107T080000
END:STANDARD
END:VTIMEZONE
BEGIN:VEVENT
DTSTART;TZID=America/Denver:20260424T060000
DTEND;TZID=America/Denver:20260424T140000
DTSTAMP:20260424T144814
CREATED:20250205T220148Z
LAST-MODIFIED:20250205T220148Z
UID:10050709-1777010400-1777039200@21fss.com
SUMMARY:Shallow End Fitness
DESCRIPTION:The shallow end of the pool is reserved for adults to work out independently.
URL:https://21fss.com/event/shallow-end-fitness-8/2026-04-24/
LOCATION:Peterson Aquatics Center\, Peterson SFB\, 80914
CATEGORIES:Aqua Hours
ORGANIZER;CN="Peterson Aquatic Center":MAILTO:21fss.aquatics.center@us.af.mil
END:VEVENT
BEGIN:VEVENT
DTSTART;TZID=America/Denver:20260424T060000
DTEND;TZID=America/Denver:20260424T150000
DTSTAMP:20260424T144814
CREATED:20250205T215448Z
LAST-MODIFIED:20250205T215531Z
UID:10059910-1777010400-1777042800@21fss.com
SUMMARY:Lap Swim
DESCRIPTION:
URL:https://21fss.com/event/lap-swim-16/2026-04-24/
LOCATION:Peterson Aquatics Center\, Peterson SFB\, 80914
CATEGORIES:Aqua Hours
ORGANIZER;CN="Peterson Aquatic Center":MAILTO:21fss.aquatics.center@us.af.mil
END:VEVENT
BEGIN:VEVENT
DTSTART;TZID=America/Denver:20260424T110000
DTEND;TZID=America/Denver:20260424T120000
DTSTAMP:20260424T144814
CREATED:20260325T162344Z
LAST-MODIFIED:20260325T162344Z
UID:10063594-1777028400-1777032000@21fss.com
SUMMARY:HIIT\, Kick\, & Tone
DESCRIPTION:A triple threat class with HIIT intervals\, kickboxing\, and toning exercises to deliver both a cardio and strength workout.
URL:https://21fss.com/event/hiit-kick-tone-32/
LOCATION:Peterson Fitness Center\, 225 E Stewart Peterson # 560\, Peterson SFB\, 80914\, United States
CATEGORIES:Fitness Class Schedule
END:VEVENT
BEGIN:VEVENT
DTSTART;TZID=America/Denver:20260424T120500
DTEND;TZID=America/Denver:20260424T130500
DTSTAMP:20260424T144814
CREATED:20260325T162344Z
LAST-MODIFIED:20260325T162344Z
UID:10063595-1777032300-1777035900@21fss.com
SUMMARY:Zumba
DESCRIPTION:A fusion of Latin and International music dance themes that create a dynamic\, exciting\, and fun calorie-burning dance fitness party. Comes with a variety of intensity levels and a serious dose of awesome each time.
URL:https://21fss.com/event/zumba-120/
LOCATION:Peterson Fitness Center\, 225 E Stewart Peterson # 560\, Peterson SFB\, 80914\, United States
CATEGORIES:Fitness Class Schedule
END:VEVENT
BEGIN:VEVENT
DTSTART;TZID=America/Denver:20260424T130000
DTEND;TZID=America/Denver:20260424T140000
DTSTAMP:20260424T144814
CREATED:20251008T160934Z
LAST-MODIFIED:20251008T184738Z
UID:10061594-1777035600-1777039200@21fss.com
SUMMARY:Softball Coaches Meeting
DESCRIPTION:Softball coaches meeting for the 2025-2026 intramural season.
URL:https://21fss.com/event/softball-coaches-meeting/
LOCATION:Peterson Fitness Center\, 225 E Stewart Peterson # 560\, Peterson SFB\, 80914\, United States
CATEGORIES:Intramural Sports
END:VEVENT
BEGIN:VEVENT
DTSTART;TZID=America/Denver:20260424T140000
DTEND;TZID=America/Denver:20260424T150000
DTSTAMP:20260424T144814
CREATED:20250205T220705Z
LAST-MODIFIED:20250205T221943Z
UID:10059880-1777039200-1777042800@21fss.com
SUMMARY:Family Swim - Shallow End
DESCRIPTION:Active Duty: $2.00\nAdults: $5.00\nChildren: $4.00
URL:https://21fss.com/event/family-swim-shallow-end-3-2/2026-04-24/
LOCATION:Peterson Aquatics Center\, Peterson SFB\, 80914
CATEGORIES:Aqua Hours
ORGANIZER;CN="Peterson Aquatic Center":MAILTO:21fss.aquatics.center@us.af.mil
END:VEVENT
BEGIN:VEVENT
DTSTART;TZID=America/Denver:20260424T180000
DTEND;TZID=America/Denver:20260424T200000
DTSTAMP:20260424T144814
CREATED:20260120T181351Z
LAST-MODIFIED:20260417T193640Z
UID:10062799-1777053600-1777060800@21fss.com
SUMMARY:Dueling Pianos Road Show
DESCRIPTION:Dueling Pianos Road ShowEnjoy a high-energy\, interactive piano show from Dueling Pianos Official\, a nationally recognized leader in crowd-driven live music entertainment. Right here in the Hub’s Ballroom\, this event features talented performers playing audience-requested songs that will turn the evening into an engaging and unforgettable celebration. \n•  6 – 8 PM \n•  FREE SHOW! \n•  Hub Ballroom \n•  Must be 10 years or older to attend \n•  Food & Drinks will be available for purchase at Colorado Pizza \n•  RSVP is required\, please sign up at the link below \n 
URL:https://21fss.com/event/dueling-pianos/
LOCATION:The Peterson Hub – Community Center\, 260 Glasgow Ave # 1013\, Peterson SFB\, CO\, 80914\, United States
CATEGORIES:Community,Food,Front Page,Fun,Hot Events,Peterson Hub
ATTACH;FMTTYPE=image/png:https://21fss.com/wp-content/uploads/2026/03/Dueling-Pianos_Web-Event_960x540.png
END:VEVENT
END:VCALENDAR