BEGIN:VCALENDAR
VERSION:2.0
PRODID:-//Peterson Space Force Base - ECPv6.15.20//NONSGML v1.0//EN
CALSCALE:GREGORIAN
METHOD:PUBLISH
X-WR-CALNAME:Peterson Space Force Base
X-ORIGINAL-URL:https://21fss.com
X-WR-CALDESC:Events for Peterson Space Force Base
REFRESH-INTERVAL;VALUE=DURATION:PT1H
X-Robots-Tag:noindex
X-PUBLISHED-TTL:PT1H
BEGIN:VTIMEZONE
TZID:America/Denver
BEGIN:DAYLIGHT
TZOFFSETFROM:-0700
TZOFFSETTO:-0600
TZNAME:MDT
DTSTART:20250309T090000
END:DAYLIGHT
BEGIN:STANDARD
TZOFFSETFROM:-0600
TZOFFSETTO:-0700
TZNAME:MST
DTSTART:20251102T080000
END:STANDARD
BEGIN:DAYLIGHT
TZOFFSETFROM:-0700
TZOFFSETTO:-0600
TZNAME:MDT
DTSTART:20260308T090000
END:DAYLIGHT
BEGIN:STANDARD
TZOFFSETFROM:-0600
TZOFFSETTO:-0700
TZNAME:MST
DTSTART:20261101T080000
END:STANDARD
BEGIN:DAYLIGHT
TZOFFSETFROM:-0700
TZOFFSETTO:-0600
TZNAME:MDT
DTSTART:20270314T090000
END:DAYLIGHT
BEGIN:STANDARD
TZOFFSETFROM:-0600
TZOFFSETTO:-0700
TZNAME:MST
DTSTART:20271107T080000
END:STANDARD
END:VTIMEZONE
BEGIN:VTIMEZONE
TZID:UTC
BEGIN:STANDARD
TZOFFSETFROM:+0000
TZOFFSETTO:+0000
TZNAME:UTC
DTSTART:20250101T000000
END:STANDARD
END:VTIMEZONE
BEGIN:VEVENT
DTSTART;TZID=America/Denver:20260422T060000
DTEND;TZID=America/Denver:20260422T100000
DTSTAMP:20260422T074559
CREATED:20250205T220055Z
LAST-MODIFIED:20250205T220055Z
UID:10050191-1776837600-1776852000@21fss.com
SUMMARY:Shallow End Fitness
DESCRIPTION:The shallow end of the pool is reserved for adults to work out independently.
URL:https://21fss.com/event/shallow-end-fitness-7/2026-04-22/
LOCATION:Peterson Aquatics Center\, Peterson SFB\, 80914
CATEGORIES:Aqua Hours
ORGANIZER;CN="Peterson Aquatic Center":MAILTO:21fss.aquatics.center@us.af.mil
END:VEVENT
BEGIN:VEVENT
DTSTART;TZID=America/Denver:20260422T060000
DTEND;TZID=America/Denver:20260422T130000
DTSTAMP:20260422T074559
CREATED:20250205T215223Z
LAST-MODIFIED:20250205T215544Z
UID:10048061-1776837600-1776862800@21fss.com
SUMMARY:Lap Swim
DESCRIPTION:
URL:https://21fss.com/event/lap-swim-14/2026-04-22/
LOCATION:Peterson Aquatics Center\, Peterson SFB\, 80914
CATEGORIES:Aqua Hours
ORGANIZER;CN="Peterson Aquatic Center":MAILTO:21fss.aquatics.center@us.af.mil
END:VEVENT
BEGIN:VEVENT
DTSTART;TZID=America/Denver:20260422T100000
DTEND;TZID=America/Denver:20260422T130000
DTSTAMP:20260422T074559
CREATED:20250205T221238Z
LAST-MODIFIED:20250205T221238Z
UID:10052000-1776852000-1776862800@21fss.com
SUMMARY:Family Swim - Shallow End
DESCRIPTION:Active Duty: $2.00\nAdults: $5.00\nChildren: $4.00
URL:https://21fss.com/event/family-swim-shallow-end-6/2026-04-22/
LOCATION:Peterson Aquatics Center\, Peterson SFB\, 80914
CATEGORIES:Aqua Hours
ORGANIZER;CN="Peterson Aquatic Center":MAILTO:21fss.aquatics.center@us.af.mil
END:VEVENT
BEGIN:VEVENT
DTSTART;TZID=America/Denver:20260422T100000
DTEND;TZID=America/Denver:20260422T130000
DTSTAMP:20260422T074559
CREATED:20250205T222128Z
LAST-MODIFIED:20250205T222412Z
UID:10054194-1776852000-1776862800@21fss.com
SUMMARY:Family Swim - Shallow End
DESCRIPTION:Active Duty: $2.00\nAdults: $5.00\nChildren: $4.00
URL:https://21fss.com/event/family-swim-shallow-end-3/2026-04-22/
LOCATION:Peterson Aquatics Center\, Peterson SFB\, 80914
CATEGORIES:Aqua Hours
ORGANIZER;CN="Peterson Aquatic Center":MAILTO:21fss.aquatics.center@us.af.mil
END:VEVENT
BEGIN:VEVENT
DTSTART;TZID=America/Denver:20260422T103000
DTEND;TZID=America/Denver:20260422T113000
DTSTAMP:20260422T074559
CREATED:20240606T164909Z
LAST-MODIFIED:20240624T195429Z
UID:10059495-1776853800-1776857400@21fss.com
SUMMARY:Baby & Toddler Story Time
DESCRIPTION:Join us for fun stories\, songs and crafts!
URL:https://21fss.com/event/baby-toddler-story-time-2/2026-04-22/
LOCATION:Peterson Library\, 201 Stewart Ave.\, Peterson SFB\, CO\, 80914\, United States
CATEGORIES:Library
ATTACH;FMTTYPE=image/png:https://21fss.com/wp-content/uploads/2024/05/BabyToddler.Storytime_Library_Web-Event_960x540_05.15.24.png
END:VEVENT
BEGIN:VEVENT
DTSTART;TZID=UTC:20260422T110000
DTEND;TZID=UTC:20260422T183000
DTSTAMP:20260422T074559
CREATED:20260109T010509Z
LAST-MODIFIED:20260109T010509Z
UID:10062669-1776855600-1776882600@21fss.com
SUMMARY:Wing Wednesday
DESCRIPTION:Every Wednesday from 11:00 A.M. – 6:30 P.M. \nBone-In or Boneless – Just 85¢ Each! \nTreat yourself to the ultimate wing experience at unbeatable prices. Choose from a variety of flavorful sauces\, and switch things up with a new sauce for every 5 wings you order. \nWhy You’ll Love Wing Wednesdays: \n\nAffordable\, mouthwatering wings\nPerfect midweek hangout spot\nSauces galore – spice it up or keep it mild!\nRelaxed vibes\, great food\, and friendly faces\n\nGrab your crew and head to the back of The Hub!
URL:https://21fss.com/event/wing-wednesday-2/2026-04-22/
LOCATION:The Peterson Hub – Community Center\, 260 Glasgow Ave # 1013\, Peterson SFB\, CO\, 80914\, United States
CATEGORIES:Food
ATTACH;FMTTYPE=image/png:https://21fss.com/wp-content/uploads/2026/01/Wing-Wednesday_Web-Event_960x540_06.26.25.png
END:VEVENT
BEGIN:VEVENT
DTSTART;TZID=America/Denver:20260422T111500
DTEND;TZID=America/Denver:20260422T120000
DTSTAMP:20260422T074559
CREATED:20260325T162142Z
LAST-MODIFIED:20260325T162142Z
UID:10063588-1776856500-1776859200@21fss.com
SUMMARY:HIIT
DESCRIPTION:Training protocol alternating short periods of intense or explosive anaerobic exercises paired with brief recovery periods. Perform exercises in repeated quick bursts at maximum or near maximal effort with periods of rest or low activity between bouts.
URL:https://21fss.com/event/hiit-34/
LOCATION:Peterson Fitness Center\, 225 E Stewart Peterson # 560\, Peterson SFB\, 80914\, United States
CATEGORIES:Fitness Class Schedule
END:VEVENT
BEGIN:VEVENT
DTSTART;TZID=America/Denver:20260422T120500
DTEND;TZID=America/Denver:20260422T130500
DTSTAMP:20260422T074559
CREATED:20260325T162143Z
LAST-MODIFIED:20260325T162143Z
UID:10063589-1776859500-1776863100@21fss.com
SUMMARY:Zumba
DESCRIPTION:A fusion of Latin and International music dance themes that create a dynamic\, exciting\, and fun calorie-burning dance fitness party. Comes with a variety of intensity levels and a serious dose of awesome each time.
URL:https://21fss.com/event/zumba-119/
LOCATION:Peterson Fitness Center\, 225 E Stewart Peterson # 560\, Peterson SFB\, 80914\, United States
CATEGORIES:Fitness Class Schedule
END:VEVENT
BEGIN:VEVENT
DTSTART;TZID=America/Denver:20260422T130000
DTEND;TZID=America/Denver:20260422T140000
DTSTAMP:20260422T074559
CREATED:20240624T195006Z
LAST-MODIFIED:20260204T191630Z
UID:10059510-1776862800-1776866400@21fss.com
SUMMARY:All-Ages Story Time
DESCRIPTION:Join us for fun stories\, songs\, and crafts!
URL:https://21fss.com/event/all-ages-story-time-2/2026-04-22/
LOCATION:Peterson Library\, 201 Stewart Ave.\, Peterson SFB\, CO\, 80914\, United States
CATEGORIES:Library
ATTACH;FMTTYPE=image/png:https://21fss.com/wp-content/uploads/2024/05/All-Ages.Storytime_Library_Web-Event_960x540_05.15.24.png
END:VEVENT
BEGIN:VEVENT
DTSTART;TZID=America/Denver:20260422T180000
DTEND;TZID=America/Denver:20260422T200000
DTSTAMP:20260422T074559
CREATED:20240605T215544Z
LAST-MODIFIED:20250522T171143Z
UID:10059511-1776880800-1776888000@21fss.com
SUMMARY:Trivia Night
DESCRIPTION:Colorado Pizza & Sports Grill \nWeekly Prizes \nThis program is free and available to all DOD ID Cardholders.
URL:https://21fss.com/event/trivia-night/2026-04-22/
LOCATION:The Peterson Hub – Community Center\, 260 Glasgow Ave # 1013\, Peterson SFB\, CO\, 80914\, United States
CATEGORIES:Peterson Hub
ATTACH;FMTTYPE=image/png:https://21fss.com/wp-content/uploads/2024/06/TriviaNight_Hub_Web_960x540_2025_031725.png
END:VEVENT
END:VCALENDAR